BEGIN:VCALENDAR
VERSION:2.0
PRODID:-//ChamberMaster//Event Calendar 2.0//EN
METHOD:PUBLISH
X-PUBLISHED-TTL:P3D
REFRESH-INTERVAL:P3D
CALSCALE:GREGORIAN
BEGIN:VEVENT
DTSTART:20171208T170000Z
DTEND:20171208T220000Z
X-MICROSOFT-CDO-ALLDAYEVENT:FALSE
SUMMARY:Legislative Open House
DESCRIPTION:To give residents a chance to learn more about the services available from her office and ask state-related questions\, Rep. Marcy Toepel (R- Montgomery) will hold an open house on Friday\, Dec. 8\, from noon to 5 p.m. at her district office in Hanover Court Center\, 1885 Swamp Pike\, Suite 107\, Gilbertsville.\n\n \n\n"I encourage residents to take a break from the hustle and bustle that comes with this time of year and enjoy some light refreshments at my office. The open house is\, of course\, a great time to ask questions or share concerns about state-related issues and even provides the opportunity to help others\," Toepel said.\n\n \n\nThe office will also be collecting nonperishable food items and toiletries to donate to local food banks. For those who wish to donate but cannot attend the open house\, collections can be dropped off at the district office through Dec. 8.\n\n \n\nNo registration is required to attend the open house. For additional information\, please call Toepel's district office at (610) 323-3299.\n\n \n\nThe event is open to residents of the 147th District\, which includes the townships of Douglass\, New Hanover\, Lower Frederick\, Lower Salford\, Marlborough\, Upper Frederick\, Upper Pottsgrove\, Upper Salford and West Pottsgrove\, as well as the boroughs of Green Lane and Schwenksville.
X-ALT-DESC;FMTTYPE=text/html:<p style="margin:0in\;margin-bottom:.0001pt">To give residents a chance to learn more about the services available from her office and ask state-related questions\, Rep. Marcy Toepel (R- Montgomery) will hold an open house on Friday\, Dec. 8\, from noon to 5 p.m. at her district office in Hanover Court Center\, 1885 Swamp Pike\, Suite 107\, Gilbertsville.<o:p></o:p></p>\n\n<p style="margin:0in\;margin-bottom:.0001pt">&nbsp\;<o:p></o:p></p>\n\n<p style="margin:0in\;margin-bottom:.0001pt">&ldquo\;I encourage residents to take a break from the hustle and bustle that comes with this time of year and enjoy some light refreshments at my office. The open house is\, of course\, a great time to ask questions or share concerns about state-related issues and even provides the opportunity to help others\,&rdquo\; Toepel said.<o:p></o:p></p>\n\n<p style="margin:0in\;margin-bottom:.0001pt">&nbsp\;<o:p></o:p></p>\n\n<p style="margin:0in\;margin-bottom:.0001pt">The office will also be collecting nonperishable food items and toiletries to donate to local food banks. For those who wish to donate but cannot attend the open house\, collections can be dropped off at the district office through Dec. 8.<o:p></o:p></p>\n\n<p style="margin:0in\;margin-bottom:.0001pt">&nbsp\;<o:p></o:p></p>\n\n<p style="margin:0in\;margin-bottom:.0001pt">No registration is required to attend the open house. For additional information\, please call Toepel&rsquo\;s district office at (610) 323-3299.<o:p></o:p></p>\n\n<p style="margin:0in\;margin-bottom:.0001pt">&nbsp\;<o:p></o:p></p>\n\n<p style="margin:0in\;margin-bottom:.0001pt">The event is open to residents of the 147<sup>th</sup> District\, which includes the townships of Douglass\, New Hanover\, Lower Frederick\, Lower Salford\, Marlborough\, Upper Frederick\, Upper Pottsgrove\, Upper Salford and West Pottsgrove\, as well as the boroughs of Green Lane and Schwenksville.<o:p></o:p></p>\n
LOCATION:Rep. Marcy Toepel's District Office Hanover Court Center 1885 Swamp Pike\, Suite 107 Gilbertsville\, PA 19525
UID:e.2183.849120
SEQUENCE:3
DTSTAMP:20260421T080011Z
URL:https://business.tricountyareachamber.com/events/details/legislative-open-house-849120
END:VEVENT

END:VCALENDAR
