BEGIN:VCALENDAR
VERSION:2.0
PRODID:-//ChamberMaster//Event Calendar 2.0//EN
METHOD:PUBLISH
X-PUBLISHED-TTL:P3D
REFRESH-INTERVAL:P3D
CALSCALE:GREGORIAN
BEGIN:VEVENT
DTSTART:20170330T213000Z
DTEND:20170330T233000Z
X-MICROSOFT-CDO-ALLDAYEVENT:FALSE
SUMMARY:Let's Talk
DESCRIPTION:Come join the Pottstown School District's PEAK team for a community conversation on "Helping Our Children Grow Socially & Emotionally" over a FREE dinner with FREE childcare\, FREE raffle prizes and FREE entertainment for the children with Give & Take Jugglers while adults enjoy the company of other adults
X-ALT-DESC;FMTTYPE=text/html:Come join the Pottstown School District&#39\;s PEAK team for a community conversation on &quot\;Helping Our Children Grow Socially &amp\; Emotionally&quot\; over a FREE dinner with FREE childcare\, FREE raffle prizes and FREE entertainment for the children with Give &amp\; Take Jugglers while adults enjoy the company of other adults
LOCATION:Franklin Elementary School
UID:e.2183.847571
SEQUENCE:3
DTSTAMP:20260420T164015Z
URL:https://business.tricountyareachamber.com/events/details/let-s-talk-03-30-2017-847571
END:VEVENT

END:VCALENDAR
