BEGIN:VCALENDAR
VERSION:2.0
PRODID:-//ChamberMaster//Event Calendar 2.0//EN
METHOD:PUBLISH
X-PUBLISHED-TTL:P3D
REFRESH-INTERVAL:P3D
CALSCALE:GREGORIAN
BEGIN:VEVENT
DTSTART:20181206T220000Z
DTEND:20181207T000000Z
X-MICROSOFT-CDO-ALLDAYEVENT:FALSE
SUMMARY:LEYP: Holiday Party
DESCRIPTION:Come celebrate the season with the rest of the LEYP group at an amazing new venue called the Red Horse Motoring Club. Wear your favorite ugly sweater and join us for some holiday celebrations. Do not miss out on this great one-time opportunity to see the inside of this member-only exclusive club! Bring a donation for one of our adopted families through the Salvation Army in order to enter the party.\n\n\n\nOur one Pottstown family has three kids. One four year old boy is looking for blocks\, cars and anything with animals. The other two children are 21 month old twins (one girl/one boy)! Any toys that are age appropriate would be amazing for this family.\n\n\n\nOur other family also has three kids. One boy age 7\, another boy age 9 and a girl age 10. All of these children would love some art supplies\, coloring books\, writing books\, headphones\, and school supplies.\n\n\n\nMonetary donations will also be accepted and will be utilized to purchase other presents for the family.\n\n\n\n\n\n\n\nLEYP is the Chamber's Young Professionals Program - ages 21-40.
X-ALT-DESC;FMTTYPE=text/html:Come celebrate the season with the rest of the LEYP group at an amazing new venue called the Red Horse Motoring Club. Wear your favorite ugly sweater and join us for some holiday celebrations. Do not miss out on this great one-time&nbsp\;opportunity to see the inside of this member-only exclusive club! Bring a donation for one of our adopted families through the Salvation Army in order to enter the party.<br />\n<br />\nOur one Pottstown family has three kids. One four year old boy is looking for blocks\, cars and anything with animals. The other two children are 21 month old twins (one girl/one boy)! Any toys that are age appropriate would be amazing for this family.<br />\n<br />\nOur other family also has three kids. One boy age 7\, another boy age 9 and a girl age 10. All of these children would love some art supplies\, coloring books\, writing books\, headphones\, and school supplies.<br />\n<br />\nMonetary donations will also be accepted and will be utilized to purchase other presents for the family.<br />\n<br />\n<br />\n<br />\n<em style="color: rgb(51\, 51\, 51)\; font-family: sans-serif\, Arial\, Verdana\, &quot\;Trebuchet MS&quot\;\; font-size: 13px\;"><strong>LEYP is the Chamber&#39\;s Young Professionals Program - ages 21-40.</strong></em>
LOCATION:Red Horse Motoring Club 132 E. 3rd St. Pottstown PA 19464
UID:e.2183.851688
SEQUENCE:3
DTSTAMP:20260423T115140Z
URL:https://business.tricountyareachamber.com/events/details/leyp-holiday-party-851688
END:VEVENT

END:VCALENDAR
