BEGIN:VCALENDAR
VERSION:2.0
PRODID:-//ChamberMaster//Event Calendar 2.0//EN
METHOD:PUBLISH
X-PUBLISHED-TTL:P3D
REFRESH-INTERVAL:P3D
CALSCALE:GREGORIAN
BEGIN:VEVENT
DTSTART:20250510T213000Z
DTEND:20250511T000000Z
X-MICROSOFT-CDO-ALLDAYEVENT:FALSE
SUMMARY:2nd Annual Libations in the Library at the Boyertown Community Library
DESCRIPTION:The 2nd Annual Libations in the Library Fundraiser will be held on Saturday\, May 10th (5:30pm-8pm) at the Boyertown Community Library.\n\nTickets available here: bit.ly/eventsBCL\n\nPlease join us for a fun evening of tasting options\, hors d'oeuvres\, a wine pull and a silent auction! We are thrilled to have several incredible local businesses sponsoring the event. There will be a variety of tasting selections including whiskey\, beer\, wine and hard cider. Non-alcoholic options will be available as well. And each ticket holder will receive a Boyertown Library glass as a favor.\n\nPlease remember to bring your photo ID with you as this is a 21+ event.  \n\nEach guest will have the opportunity to sample four tastings of their choosing. Coffee\, tea\, water and small bites will be available for all guests. The wonderful silent auction items will be on display at the event and ready for you to bid on! Please check our social media pages for more information about our sponsors and the silent auction items! All proceeds will be going to the Boyertown Community Library.\n\nWe thank you for your support!
X-ALT-DESC;FMTTYPE=text/html:<p>The 2nd Annual Libations in the Library Fundraiser will be held on Saturday\, May 10th (5:30pm-8pm) at the Boyertown Community Library.<br />\nTickets available here: bit.ly/eventsBCL</p>\n\n<p>Please join us for a fun evening of tasting options\, hors d&#39\;oeuvres\, a wine pull and a silent auction! We are thrilled to have several incredible local businesses sponsoring the event. There will be a variety of tasting selections including whiskey\, beer\, wine and hard cider. Non-alcoholic options will be available as well. And each ticket holder will receive a Boyertown Library glass as a favor.</p>\n\n<p><em><strong>Please remember to bring your photo ID with you as this is a 21+ event.&nbsp\;</strong></em>&nbsp\;</p>\n\n<p>Each guest will have the opportunity to sample four tastings of their choosing. Coffee\, tea\, water and small bites will be available for all guests. The wonderful silent auction items will be on display at the event and ready for you to bid on! Please check our social media pages for more information about our sponsors and the silent auction items! All proceeds will be going to the Boyertown Community Library.</p>\n\n<p>We thank you for your support!</p>\n
LOCATION:Boyertown Community Library 24 N Reading Ave Boyertown\, PA 19512
UID:e.2183.862039
SEQUENCE:3
DTSTAMP:20260421T112446Z
URL:https://business.tricountyareachamber.com/events/details/libations-in-the-library-862039
END:VEVENT

END:VCALENDAR
