BEGIN:VCALENDAR
VERSION:2.0
PRODID:-//ChamberMaster//Event Calendar 2.0//EN
METHOD:PUBLISH
X-PUBLISHED-TTL:P3D
REFRESH-INTERVAL:P3D
CALSCALE:GREGORIAN
BEGIN:VEVENT
DTSTART:20170603T140000Z
DTEND:20170603T200000Z
X-MICROSOFT-CDO-ALLDAYEVENT:FALSE
SUMMARY:Life on the Home Front during the Civil War
DESCRIPTION:Hopewell Furnace supported the Union Army through the production of pig iron for weapons and other articles of war.  During the conflict the furnace's residents supported the troops by supplying more domestic materials for the war effort while continuing their daily lives.
X-ALT-DESC;FMTTYPE=text/html:<span style="color: rgb(85\, 85\, 85)\; font-family: Arial\, sans-serif\; font-size: 16px\; background-color: rgb(255\, 255\, 255)\;">Hopewell Furnace supported&nbsp\;the Union Army through the production of pig iron&nbsp\;for&nbsp\;weapons&nbsp\;and other&nbsp\;articles&nbsp\;of&nbsp\;war.&nbsp\; During the conflict the furnace&#39\;s residents&nbsp\;supported the troops by supplying more domestic materials for the war effort&nbsp\;while&nbsp\;continuing&nbsp\;their&nbsp\;daily&nbsp\;lives.</span>
LOCATION:Hopewell Furnace Historic Area 2 Mark Bird Lane Elverson\, PA 19520
UID:e.2183.847696
SEQUENCE:3
DTSTAMP:20260420T213704Z
URL:https://business.tricountyareachamber.com/events/details/life-on-the-home-front-during-the-civil-war-847696
END:VEVENT

END:VCALENDAR
