BEGIN:VCALENDAR
VERSION:2.0
PRODID:-//ChamberMaster//Event Calendar 2.0//EN
METHOD:PUBLISH
X-PUBLISHED-TTL:P3D
REFRESH-INTERVAL:P3D
CALSCALE:GREGORIAN
BEGIN:VEVENT
DTSTART:20171005T200000Z
DTEND:20171005T230000Z
X-MICROSOFT-CDO-ALLDAYEVENT:FALSE
SUMMARY:Limerick Generating Station Community Information Night
DESCRIPTION:Ever wonder how a nuclear power plant operates? Attend Community Information Night on Thursday\, Oct. 5 and you'll see firsthand how the men and women of Limerick Generating Station harness the power of the atom to produce clean and reliable energy for the region. The family-friendly event will be held from 4 to 7 p.m. \n\n \n\nLimerick employees will be on hand to answer questions and inform visitors on plant operations\, maintenance\, engineering practices\, environmental stewardship\, radiological safety\, emergency preparedness and much more. Visitors can also tour the station's control room simulator\, which is used to train reactor operators. Petrucci's Ice Cream will provide free tasty treats. Register online at https://lgscommunityinfonight.eventbrite.com. Registration is requested\, but not required to attend the event. \n\n \n\nResidents can park in Limerick's main parking lot at 3146 Sanatoga Rd\, Pottstown\, PA 19464. A bus will take residents to the control room simulator and event activities. \n\n \n\nLimerick Generating Station is a dual reactor nuclear energy facility located in southeastern Pennsylvania\, about 20 miles northwest of Philadelphia in Montgomery County. It is built on a 650-acre site and draws its cooling water from the Schuylkill River. Limerick Units 1 and Unit 2 produce a combined 2\,345 net megawatts (MW) of electricity\, enough to power two million homes and businesses.
X-ALT-DESC;FMTTYPE=text/html:<div style="box-sizing: border-box\; color: rgb(96\, 96\, 96)\; font-family: benton-sans-book\; font-size: 18px\; background-color: rgb(255\, 255\, 255)\;">Ever wonder how a nuclear power plant operates? Attend Community Information Night on Thursday\, Oct. 5 and you&rsquo\;ll see firsthand how the men and women of Limerick Generating Station harness the power of the atom to produce clean and reliable energy for the region. The family-friendly event will be held from 4 to 7 p.m.&nbsp\;</div>\n\n<div style="box-sizing: border-box\; color: rgb(96\, 96\, 96)\; font-family: benton-sans-book\; font-size: 18px\; background-color: rgb(255\, 255\, 255)\;">&nbsp\;</div>\n\n<div style="box-sizing: border-box\; color: rgb(96\, 96\, 96)\; font-family: benton-sans-book\; font-size: 18px\; background-color: rgb(255\, 255\, 255)\;">Limerick employees will be on hand to answer questions and inform visitors on plant operations\, maintenance\, engineering practices\, environmental stewardship\, radiological safety\, emergency preparedness and much more. Visitors can also tour the station&rsquo\;s control room simulator\, which is used to train reactor operators. Petrucci&rsquo\;s Ice Cream will provide free tasty treats. Register online at&nbsp\;<a href="https://lgscommunityinfonight.eventbrite.com" style="color: rgb(107\, 165\, 67)\; text-decoration-line: none\; background-color: transparent\; box-sizing: border-box\;">https://lgscommunityinfonight.eventbrite.com</a>. Registration is requested\, but not required to attend the event.&nbsp\;</div>\n\n<div style="box-sizing: border-box\; color: rgb(96\, 96\, 96)\; font-family: benton-sans-book\; font-size: 18px\; background-color: rgb(255\, 255\, 255)\;">&nbsp\;</div>\n\n<div style="box-sizing: border-box\; color: rgb(96\, 96\, 96)\; font-family: benton-sans-book\; font-size: 18px\; background-color: rgb(255\, 255\, 255)\;">Residents can park in Limerick&rsquo\;s main parking lot at 3146 Sanatoga Rd\, Pottstown\, PA 19464. A bus will take residents to the control room simulator and event activities.&nbsp\;</div>\n\n<div style="box-sizing: border-box\; color: rgb(96\, 96\, 96)\; font-family: benton-sans-book\; font-size: 18px\; background-color: rgb(255\, 255\, 255)\;">&nbsp\;</div>\n\n<div style="box-sizing: border-box\; color: rgb(96\, 96\, 96)\; font-family: benton-sans-book\; font-size: 18px\; background-color: rgb(255\, 255\, 255)\;">Limerick Generating Station is a dual reactor nuclear energy facility located in southeastern Pennsylvania\, about 20 miles northwest of Philadelphia in Montgomery County. It is built on a 650-acre site and draws its cooling water from the Schuylkill River. Limerick Units 1 and Unit 2 produce a combined 2\,345 net megawatts (MW) of electricity\, enough to power two million homes and businesses.</div>\n
LOCATION:3146 Sanatoga Road Pottstown\, PA 19464
UID:e.2183.848798
SEQUENCE:3
DTSTAMP:20260421T060948Z
URL:https://business.tricountyareachamber.com/events/details/limerick-generating-station-community-information-night-848798
END:VEVENT

END:VCALENDAR
