BEGIN:VCALENDAR
VERSION:2.0
PRODID:-//ChamberMaster//Event Calendar 2.0//EN
METHOD:PUBLISH
X-PUBLISHED-TTL:P3D
REFRESH-INTERVAL:P3D
CALSCALE:GREGORIAN
BEGIN:VEVENT
DTSTART:20180512T163000Z
DTEND:20180512T200000Z
X-MICROSOFT-CDO-ALLDAYEVENT:FALSE
SUMMARY:Live Each Day with Intention\, Power\, and Purpose!
DESCRIPTION:It's time to get GROWING!\nThis workshop is dedicated to sharing tools\, resources and techniques to help you feel your truest most powerful self and maximize the potential in every day!\n\nAs a John Maxwell certified Speaker\, Coach\, and Trainer\, I am eager to help you become intentional in your journey of self-discovery and growth.\nAre You Clear and Present?\nWe can't change the number of hours in a day\, but we can radically change how we think about them. You'll gain tools and techniques to keep your mind bubbling with fresh perspective and increase your effectiveness both at home and at work.\n\nWhat's Holding You Back?\nLimiting beliefs can be crippling and prevent us from reaching our true potential. Let's identify what's holding you back\, so you can start growing forward!\n\nAre You Focused on YOU?\nAs John Maxwell says\, "You have to know yourself to grow yourself". Let's talk about what you want\, how you want to feel and where you want to grow!\n\n\n\n\n\nThis is an interactive workshop designed to help you feel energized and invigorated!\n\nDress is comfortable and casual.\n\n12:30pm to 1pm: Registration and Networking\n\n1pm to 4pm: Workshop\n\n(Please note\, standard ticket processing fees apply.)\n\n\n\nTicket Price: $40\n\n\n\nRegister Here: https://intentionpowerpurpose.eventbrite.com
X-ALT-DESC;FMTTYPE=text/html:<div>\n<div>\n<div>\n<div>\n<div>\n<div>\n<h3>It&rsquo\;s time to get GROWING!</h3>\nThis workshop is dedicated to sharing tools\, resources and techniques to help you feel your truest most powerful self and maximize the potential in every day!<br />\nAs a John Maxwell certified Speaker\, Coach\, and Trainer\, I am eager to help you become intentional in your journey of self-discovery and growth.\n<h3>Are You Clear and Present?</h3>\nWe can&rsquo\;t change the number of hours in a day\, but we can radically change how we think about them. You&rsquo\;ll gain tools and techniques to keep your mind bubbling with fresh perspective and increase your effectiveness both at home and at work.\n\n<h3>What&rsquo\;s Holding You Back?</h3>\nLimiting beliefs can be crippling and prevent us from reaching our true potential. Let&rsquo\;s identify what&rsquo\;s holding you back\, so you can start growing forward!\n\n<h3>Are You Focused on YOU?</h3>\nAs John Maxwell says\, &ldquo\;You have to know yourself to grow yourself&rdquo\;. Let&rsquo\;s talk about what you want\, how you want to feel and where you want to grow!<br />\n<br />\n<br />\nThis is an interactive workshop designed to help you feel energized and invigorated!<br />\nDress is comfortable and casual.<br />\n<strong>12:30pm to 1pm: Registration and Networking</strong><br />\n<strong>1pm to 4pm: Workshop</strong><br />\n(Please note\, standard ticket processing fees apply.)<br />\n<br />\n<strong>Ticket Price</strong>: $40<br />\n<br />\n<strong>Register Here</strong>:&nbsp\;<strong><span style="font-family:georgia\,serif"><span style="font-size:11.0pt">https://intentionpowerpurpose.eventbrite.com</span></span></strong><br />\n<br />\n<br />\n<br />\n<br />\n&nbsp\;</div>\n</div>\n</div>\n</div>\n</div>\n\n<div>\n<div>\n<h3>&nbsp\;</h3>\n</div>\n</div>\n</div>\n
LOCATION:Connections on High 238 E. High St.\, Pottstown\, PA 19464
UID:e.2183.850353
SEQUENCE:3
DTSTAMP:20260424T013027Z
URL:https://business.tricountyareachamber.com/events/details/live-each-day-with-intention-power-and-purpose-850353
END:VEVENT

END:VCALENDAR
