BEGIN:VCALENDAR
VERSION:2.0
PRODID:-//ChamberMaster//Event Calendar 2.0//EN
METHOD:PUBLISH
X-PUBLISHED-TTL:P3D
REFRESH-INTERVAL:P3D
CALSCALE:GREGORIAN
BEGIN:VEVENT
DTSTART:20161105T133000Z
DTEND:20161105T223000Z
X-MICROSOFT-CDO-ALLDAYEVENT:FALSE
SUMMARY:Longwood Gardens and Chester County Wine Tasting Tour
DESCRIPTION:Love wine and flowers?\n\nCome join us on a trip to visit historical Chester County for a leisurely day of fun and frolic. The day will entail a stop at two different Chester County wineries: Black Walnut Winery and Chaddsford Winery\, as well as a tour of the beautiful scenic grounds of Longwood Gardens. Both winery stops will include a tasting of 5 of their delicious wines and some food pairings. There will be time for you to enjoy lunch at Longwood Gardens\, on your own. Gather some friends and call to reserve your seats today!
X-ALT-DESC;FMTTYPE=text/html:Love wine and flowers?<br />\nCome join us on a trip to visit historical Chester County for a leisurely day of fun and frolic. The day will entail a stop at two different Chester County wineries: Black Walnut Winery and Chaddsford Winery\, as well as a tour of the beautiful scenic grounds of Longwood Gardens. Both winery stops will include a tasting of 5 of their delicious wines and some food pairings. There will be time for you to enjoy lunch at Longwood Gardens\, on your own. Gather some friends and call to reserve your seats today!
LOCATION:Departing from: Borough of Pottstown 100 East High Street Pottstown\, PA 19464
UID:e.2183.847276
SEQUENCE:3
DTSTAMP:20260422T113650Z
URL:https://business.tricountyareachamber.com/events/details/longwood-gardens-and-chester-county-wine-tasting-tour-847276
END:VEVENT

END:VCALENDAR
