BEGIN:VCALENDAR
VERSION:2.0
PRODID:-//ChamberMaster//Event Calendar 2.0//EN
METHOD:PUBLISH
X-PUBLISHED-TTL:P3D
REFRESH-INTERVAL:P3D
CALSCALE:GREGORIAN
BEGIN:VEVENT
DTSTART:20200917T140000Z
DTEND:20200917T150000Z
X-MICROSOFT-CDO-ALLDAYEVENT:FALSE
SUMMARY:LTC Alumni Executive Series Part 3: Generational Differences
DESCRIPTION:Heather Chandler\, an award-winning entrepreneur and leader\, as well as President of Sealstrip Corporation in Gilbertsville\, will be sharing with us the differences\, similarities\, values\, and work and communication styles of the 5 generations. We'll explore how society's economic\, social\, and political climates as each generation came of age impacted them. We'll build bridges between generations through skills and techniques for improved communication\, understanding of motivations\, and teamwork to achieve more success for all of us. If you've seen this presentation or something similar before\, please join us to get the latest research and work styles of the newest named- Generation Z (born 1997 and after.)
X-ALT-DESC;FMTTYPE=text/html:Heather Chandler\, an award-winning entrepreneur and leader\, as well as President of Sealstrip Corporation in Gilbertsville\, will be sharing with us the differences\, similarities\, values\, and work and communication styles of the 5 generations. We&rsquo\;ll explore how society&rsquo\;s economic\, social\, and political climates as each generation came of age impacted them. We&rsquo\;ll build bridges between generations through skills and techniques for improved communication\, understanding of motivations\, and teamwork to achieve more success for all of us. If you&rsquo\;ve seen this presentation or something similar before\, please join us to get the latest research and work styles of the newest named- Generation Z (born 1997 and after.)
LOCATION:VIRTUAL | A zoom link will be sent to all registered attendees prior to the event.
UID:e.2183.856323
SEQUENCE:3
DTSTAMP:20260424T050717Z
URL:https://business.tricountyareachamber.com/events/details/ltc-alumni-executive-series-part-3-generational-differences-856323
END:VEVENT

END:VCALENDAR
