BEGIN:VCALENDAR
VERSION:2.0
PRODID:-//ChamberMaster//Event Calendar 2.0//EN
METHOD:PUBLISH
X-PUBLISHED-TTL:P3D
REFRESH-INTERVAL:P3D
CALSCALE:GREGORIAN
BEGIN:VEVENT
DTSTART:20260220T163000Z
DTEND:20260220T180000Z
X-MICROSOFT-CDO-ALLDAYEVENT:FALSE
SUMMARY:Lunch & Learn: Fundraising 101
DESCRIPTION:Join chamber staff and fellow members for lunch and a learning session focused on Fundraising 101 presented by Leslie Bluestone\, CFRE\, CFRM with Bluestone Fundraising Advisors!\n\n\n\nDoes fundraising feel intimidating?  Are you uncertain about the federal and state funding you relied on in the past?  Join me for an introduction -- or refresh -- on fundraising for your nonprofit. We'll break down the basics\, clear up common myths\, and share simple\, practical strategies you can use right away so fundraising feels doable and even fun. You will leave with confidence and next steps you can put into action as soon as you get back to the office.\n\n\n\nFood and refreshments will be provided by Bause Catering for this event!\n\n\n\nLeslie Bluestone\, CFRE\, CFRM is the founder and principal consultant of Bluestone Fundraising Advisors LLC where she helps nonprofits strengthen and grow their fundraising programs through strategic fundraising events\, development assessments\, campaigns and interim staffing. Drawing on her extensive experience in higher education\, healthcare\, and the performing arts throughout the Greater Philadelphia region\, Leslie helps organizations increase their fundraising capacity to expand their impact in the community. Bluestone Fundraising Advisors is also part of a network of nonprofit consultants\, enhancing the range and depth of services it offers.
X-ALT-DESC;FMTTYPE=text/html:<span style="font-size:16px\;">Join chamber staff and fellow members for lunch and a learning session focused on Fundraising 101 presented by Leslie Bluestone\,&nbsp\;CFRE\, CFRM with Bluestone Fundraising Advisors!<br />\n<br />\nDoes fundraising feel intimidating?&nbsp\; Are you uncertain about the federal and state funding you relied on in the past?&nbsp\; Join me for an introduction -- or refresh -- on fundraising for your nonprofit. We&rsquo\;ll break down the basics\, clear up common myths\, and share simple\, practical strategies you can use right away so fundraising feels doable and even fun. You will leave with confidence and next steps you can put into action as soon as you get back to the office.</span><br />\n<br />\n<span style="font-family: Arial\, Helvetica\, sans-serif\; font-size: 16px\;">Food and refreshments will be provided by Bause Catering for this event!</span><br />\n<br />\n<span style="font-size:16px\;">Leslie Bluestone\, CFRE\, CFRM is the founder and principal consultant of Bluestone Fundraising Advisors LLC where she helps nonprofits strengthen and grow their fundraising programs through strategic fundraising events\, development assessments\, campaigns and interim staffing. Drawing on her extensive experience in higher education\, healthcare\, and the performing arts throughout the Greater Philadelphia region\, Leslie helps organizations increase their fundraising capacity to expand their impact in the community. Bluestone Fundraising Advisors is also part of a network of nonprofit consultants\, enhancing the range and depth of services it offers.</span><br />\n<br />\n<br />\n&nbsp\;
LOCATION:TriCounty Area Chamber of Commerce 18 W. Lightcap rd\, Pottstown\, PA 19464
UID:e.2183.864518
SEQUENCE:3
DTSTAMP:20260420T012728Z
URL:https://business.tricountyareachamber.com/events/details/lunch-learn-fundraising-101-864518
END:VEVENT

END:VCALENDAR
