BEGIN:VCALENDAR
VERSION:2.0
PRODID:-//ChamberMaster//Event Calendar 2.0//EN
METHOD:PUBLISH
X-PUBLISHED-TTL:P3D
REFRESH-INTERVAL:P3D
CALSCALE:GREGORIAN
BEGIN:VEVENT
DTSTART:20170808T220000Z
DTEND:20170808T230000Z
X-MICROSOFT-CDO-ALLDAYEVENT:FALSE
SUMMARY:Machinist-CNC Information Sessions
DESCRIPTION:Train for a high-tech\, high-demand career as a CNC Machine Operator through Montgomery County Community College's certification program. Interested in learning more? Join us for an information session at Central Campus in Blue Bell on Tuesday\, August 8.\n\nIf you are unable to attend this session\, join us on August 15.
X-ALT-DESC;FMTTYPE=text/html:<p style="margin: 0px 0px 15px\; padding: 0px\; border: 0px\; outline: 0px\; font-family: proxima-nova\, sans-serif\; vertical-align: baseline\; color: rgb(124\, 124\, 124)\; font-size: 13px\;">Train for a high-tech\, high-demand career as a&nbsp\;<a href="http://www.mc3.edu/cnc" style="margin: 0px\; padding: 0px\; border: 0px\; outline: 0px\; font-weight: inherit\; font-style: inherit\; font-family: inherit\; vertical-align: baseline\; text-decoration-line: none\; color: rgb(104\, 2\, 22)\;" target="_blank">CNC Machine Operator</a>&nbsp\;through Montgomery County Community College&#39\;s certification program. Interested in learning more? Join us for an&nbsp\;information session at Central Campus in Blue Bell on Tuesday\, August 8.</p>\n\n<p style="margin: 0px 0px 15px\; padding: 0px\; border: 0px\; outline: 0px\; font-family: proxima-nova\, sans-serif\; vertical-align: baseline\; color: rgb(124\, 124\, 124)\; font-size: 13px\;">If you are unable to attend this session\,&nbsp\;<a href="https://calendar.mc3.edu/event/cnc-machine-operator-information-session-1/" style="margin: 0px\; padding: 0px\; border: 0px\; outline: 0px\; font-weight: inherit\; font-style: inherit\; font-family: inherit\; vertical-align: baseline\; text-decoration-line: none\; color: rgb(104\, 2\, 22)\;">join us on August 15</a>.</p>\n
LOCATION:MCCC Central Campus 340 Dekalb Pike Blue Bell\, PA 19422 In the Advanced Technology Center\, Room 101
UID:e.2183.848720
SEQUENCE:3
DTSTAMP:20260421T025220Z
URL:https://business.tricountyareachamber.com/events/details/machinist-cnc-information-sessions-848720
END:VEVENT

END:VCALENDAR
