BEGIN:VCALENDAR
VERSION:2.0
PRODID:-//ChamberMaster//Event Calendar 2.0//EN
METHOD:PUBLISH
X-PUBLISHED-TTL:P3D
REFRESH-INTERVAL:P3D
CALSCALE:GREGORIAN
BEGIN:VEVENT
DTSTART:20170815T220000Z
DTEND:20170815T233000Z
X-MICROSOFT-CDO-ALLDAYEVENT:FALSE
SUMMARY:Machinist-CNC Information Sessions
DESCRIPTION:Train for a high-tech\, high-demand career as a CNC Machine Operator through Montgomery County Community College's certification program. Interested in learning more? Join us for an information session at West Campus in Pottstown on Tuesday\, August 15. The session is available via simulcast to the College Hall\, Room 146 at Central Campus in Blue Bell.
X-ALT-DESC;FMTTYPE=text/html:<p style="margin: 0px 0px 15px\; padding: 0px\; border: 0px\; outline: 0px\; font-family: proxima-nova\, sans-serif\; vertical-align: baseline\; color: rgb(124\, 124\, 124)\; font-size: 13px\;"><span style="color: rgb(124\, 124\, 124)\; font-family: proxima-nova\, sans-serif\; font-size: 13px\;">Train for a high-tech\, high-demand career as a&nbsp\;</span><a href="http://www.mc3.edu/cnc" style="margin: 0px\; padding: 0px\; border: 0px\; outline: 0px\; font-family: proxima-nova\, sans-serif\; vertical-align: baseline\; text-decoration-line: none\; color: rgb(104\, 2\, 22)\; font-size: 13px\;" target="_blank">CNC Machine Operator</a><span style="color: rgb(124\, 124\, 124)\; font-family: proxima-nova\, sans-serif\; font-size: 13px\;">&nbsp\;through Montgomery County Community College&#39\;s certification program. Interested in learning more? Join us for an&nbsp\;information session at West Campus in Pottstown on Tuesday\, August 15. The session is available via simulcast to the College Hall\, Room 146 at Central Campus in Blue Bell.</span></p>\n
LOCATION:MCCC West Campus 101 College Drive Pottstown\, PA 19464 In South Hall\, Room 216
UID:e.2183.848721
SEQUENCE:3
DTSTAMP:20260421T024536Z
URL:https://business.tricountyareachamber.com/events/details/machinist-cnc-information-sessions-848721
END:VEVENT

END:VCALENDAR
