BEGIN:VCALENDAR
VERSION:2.0
PRODID:-//ChamberMaster//Event Calendar 2.0//EN
METHOD:PUBLISH
X-PUBLISHED-TTL:P3D
REFRESH-INTERVAL:P3D
CALSCALE:GREGORIAN
BEGIN:VEVENT
DTSTART:20160129T133000Z
DTEND:20160129T150000Z
X-MICROSOFT-CDO-ALLDAYEVENT:FALSE
SUMMARY:''Made in the Tri-County Area'' Tour
DESCRIPTION:This second in the series of "Made in the Tri-County Area" tours will be hosted by Beacon Container Corp. Beacon has a complete line of packaging products for every customer and are recognized as a leader in packaging and point-of-purchase displays. They have also been instrumental in donating the cartons used every year for the Chamber's Business Equipment Recycling event\, a benefit to our members. \n\n\n\nThis tour will be limited to 15 member participants.\n\n\n\nMembers only!\n\n\n\nRegistration required.
X-ALT-DESC;FMTTYPE=text/html:<p><span style="font-size:12px\;"><span style="font-family:arial\;">This second in the series of <strong>&ldquo\;Made in the Tri-County Area&rdquo\;</strong> tours will be hosted by <strong>Beacon Container Corp</strong>.&nbsp\;Beacon has a complete line of packaging products for every customer and are recognized as a leader in packaging and point-of-purchase displays.&nbsp\;They have also been instrumental in donating the cartons used every year for the Chamber&rsquo\;s Business Equipment Recycling event\, a benefit to our members.&nbsp\;<br />\n<br />\n<strong>This tour will be limited to 15 member participants.</strong></span></span><br />\n<br />\n<span style="color:#FF0000\;"><strong>Members only!</strong></span><br />\n<br />\nRegistration required.<br />\n<br />\n<span style="font-family: arial\; color: #ff0000\; font-size: 10px\;">&nbsp\;</span></p>\n
LOCATION:Beacon Container Corp. 700 W. First St. Birdsboro\, PA 19508
UID:e.2183.845144
SEQUENCE:3
DTSTAMP:20260425T223303Z
URL:https://business.tricountyareachamber.com/events/details/made-in-the-tri-county-area-tour-01-29-2016-845144
END:VEVENT

END:VCALENDAR
