BEGIN:VCALENDAR
VERSION:2.0
PRODID:-//ChamberMaster//Event Calendar 2.0//EN
METHOD:PUBLISH
X-PUBLISHED-TTL:P3D
REFRESH-INTERVAL:P3D
CALSCALE:GREGORIAN
BEGIN:VEVENT
DTSTART:20150930T123000Z
DTEND:20150930T140000Z
X-MICROSOFT-CDO-ALLDAYEVENT:FALSE
SUMMARY:''Made in the Tri-County Area'' Tour
DESCRIPTION:The first in the next series of "Made in the Tri-County Area Tours" will be hosted by CEI   Douglassville\, Inc.\, a manufacturer of Kiwi shoe products\, toilet care products\, and gel air fresheners. This tour is limited to 20 participants - register today!\n\n\n\nMembers only!\n\n\n\nRegistration required.
X-ALT-DESC;FMTTYPE=text/html:<p>The first in the next&nbsp\;series of &ldquo\;Made in the Tri-County Area Tours&rdquo\; will be hosted by CEI &ndash\; Douglassville\, Inc.\, a manufacturer of Kiwi shoe products\, toilet care products\, and gel air fresheners.&nbsp\;This tour is&nbsp\;limited to 20 participants - register today!<br />\n<br />\n<span style="color:#FF0000\;"><strong>Members only!</strong></span><br />\n<br />\nRegistration required.<br />\n<br />\n<span style="font-family: arial\; color: #ff0000\; font-size: 10px\;">&nbsp\;</span><br />\n&nbsp\;</p>\n
LOCATION:CEI - Douglassville\, Inc. 447 Old Swede Rd. Douglassville\, PA 19518
UID:e.2183.845053
SEQUENCE:3
DTSTAMP:20260426T025313Z
URL:https://business.tricountyareachamber.com/events/details/made-in-the-tri-county-area-tour-09-30-2015-845053
END:VEVENT

END:VCALENDAR
