BEGIN:VCALENDAR
VERSION:2.0
PRODID:-//ChamberMaster//Event Calendar 2.0//EN
METHOD:PUBLISH
X-PUBLISHED-TTL:P3D
REFRESH-INTERVAL:P3D
CALSCALE:GREGORIAN
BEGIN:VEVENT
DTSTART:20161117T133000Z
DTEND:20161117T150000Z
X-MICROSOFT-CDO-ALLDAYEVENT:FALSE
SUMMARY:''Made in the Tri-County Area'' Tour
DESCRIPTION:FlagZone is a leading manufacturer of U.S. flags\, which include\, but are not limited to: U.S.\, State\, Foreign\, Military\, Marine\, Message\, and custom flags and banners. They pride themselves in producing a Made in America Product and one that is a worldwide symbol of freedom and liberty for all. \n\n\n\nThis tour is limited to 25 members and is on a first come\, first serve basis.\n\n\n\nMembers only!\n\n\n\nRegistration required.
X-ALT-DESC;FMTTYPE=text/html:<p><strong><span style="font-family:times new roman\,serif\;"><span style="font-size:12.0pt\;">FlagZone</span></span></strong><span style="font-family:times new roman\,serif\;"><span style="font-size:12.0pt\;"> is a leading manufacturer of U.S. flags\, which include\, but are not limited to:&nbsp\;U.S.\, State\, Foreign\, Military\, Marine\, Message\, and custom flags and banners.&nbsp\;They pride themselves in producing a <strong>Made in America Product</strong> and one that is a worldwide symbol of freedom and liberty for all<strong>.&nbsp\;<br />\n<br />\nThis tour is limited to 25 members and is on a first come\, first serve basis.</strong></span></span><br />\n<br />\n<span style="color:#FF0000\;"><strong>Members only!</strong></span><br />\n<br />\nRegistration required.<br />\n<br />\n<span style="font-family: arial\; color: #ff0000\; font-size: 10px\;">&nbsp\;</span></p>\n
LOCATION:FlagZone\, LLC 105A Industrial Drive Gilbertsville\, PA 19525
UID:e.2183.847192
SEQUENCE:3
DTSTAMP:20260422T113401Z
URL:https://business.tricountyareachamber.com/events/details/made-in-the-tri-county-area-tour-847192
END:VEVENT

END:VCALENDAR
