BEGIN:VCALENDAR
VERSION:2.0
PRODID:-//ChamberMaster//Event Calendar 2.0//EN
METHOD:PUBLISH
X-PUBLISHED-TTL:P3D
REFRESH-INTERVAL:P3D
CALSCALE:GREGORIAN
BEGIN:VEVENT
DTSTART:20170222T133000Z
DTEND:20170222T150000Z
X-MICROSOFT-CDO-ALLDAYEVENT:FALSE
SUMMARY:''Made in the Tri-County Area'' Tour
DESCRIPTION:American Crane is a leader in the design and manufacture of cranes\, hoists and other material handling equipment\, as well as components and parts for a variety of applications. They are a supplier of specialized equipment used in industries ranging from energy to aerospace and are able to meet all of your material handling needs. \n\n\n\n\n\nMembers only!\n\n\n\nRegistration required.
X-ALT-DESC;FMTTYPE=text/html:<p><span style="font-family:times new roman\,serif\;"><span style="font-size:12.0pt\;"><b>American Crane&nbsp\;</b>is a leader in the design and manufacture of cranes\, hoists and other material handling equipment\, as well as components and parts for a variety of applications. They are a supplier of specialized equipment used in industries ranging from energy to aerospace and are able to meet all of your material handling needs.<strong>&nbsp\;</strong></span></span><br />\n<br />\n<br />\n<span style="color:#FF0000\;"><strong>Members only!</strong></span><br />\n<br />\nRegistration required.<br />\n<br />\n<span style="font-family: arial\; color: #ff0000\; font-size: 10px\;">&nbsp\;</span></p>\n
LOCATION:American Crane & Equipment Corporation 531 Old Swede Road Douglassville\, PA 19518
UID:e.2183.847279
SEQUENCE:3
DTSTAMP:20260420T152119Z
URL:https://business.tricountyareachamber.com/events/details/made-in-the-tri-county-area-tour-847279
END:VEVENT

END:VCALENDAR
