BEGIN:VCALENDAR
VERSION:2.0
PRODID:-//ChamberMaster//Event Calendar 2.0//EN
METHOD:PUBLISH
X-PUBLISHED-TTL:P3D
REFRESH-INTERVAL:P3D
CALSCALE:GREGORIAN
BEGIN:VEVENT
DTSTART:20170922T123000Z
DTEND:20170922T140000Z
X-MICROSOFT-CDO-ALLDAYEVENT:FALSE
SUMMARY:''Made in the Tri-County Area'' Tour
DESCRIPTION:With nearly 150 accumulative years of industry experience in design\, construction\, repair and maintenance of pipe organs\, Patrick J. Murphy & Associates\, Inc. Organbuilders is one of the few regionally known pipe organ builders that also routinely provide maintenance and tuning services to all makes and types of pipe organs in the local area.  Within their 8\,000 sq. ft. shop\, they bring a unique\, long-term perspective to pipe organ building\; a relationship of stewardship and partnering with their clients for a sense of ownership over the lifetime of the instrument.  This tour is limited to 25 attendees.\n\nMore information about Patrick J. Murphy & Associates is availble at pjmorgans.com.\n\n\n\n\n\n\n\nMembers only!\n\n\n\nRegistration required.
X-ALT-DESC;FMTTYPE=text/html:<p><span style="font-size:14.0pt\;">With nearly 150 accumulative years of industry experience in design\, construction\, repair and maintenance of pipe organs\, <strong>Patrick J. Murphy &amp\; Associates\, Inc.</strong> <strong>Organbuilders</strong> is one of the few regionally known <strong>pipe organ builders</strong> that also routinely provide maintenance and tuning services to all makes and types of pipe organs in the local area.&nbsp\; Within their 8\,000 sq. ft. shop\, they bring a unique\, long-term perspective to pipe organ building\; a relationship of stewardship and partnering with their clients for a sense of ownership over the lifetime of the instrument.&nbsp\; <strong>This tour is limited to 25 attendees.<br />\nMore information about Patrick J. Murphy &amp\; Associates is availble at&nbsp\;<a href="http://www.pjmorgans.com/">pjmorgans.com</a>.</strong></span><br />\n<br />\n<br />\n<br />\n<span style="color:#FF0000\;"><strong>Members only!</strong></span><br />\n<br />\nRegistration required.<br />\n<br />\n<span style="font-family: arial\; color: #ff0000\; font-size: 10px\;">&nbsp\;</span></p>\n
LOCATION:Patrick J. Murphy & Associates\, Inc. Organbuilders 300 Old Reading Pike\, Suite 1-D Stowe\, PA 19464
UID:e.2183.848737
SEQUENCE:3
DTSTAMP:20260421T025831Z
URL:https://business.tricountyareachamber.com/events/details/made-in-the-tri-county-area-tour-848737
END:VEVENT

END:VCALENDAR
