BEGIN:VCALENDAR
VERSION:2.0
PRODID:-//ChamberMaster//Event Calendar 2.0//EN
METHOD:PUBLISH
X-PUBLISHED-TTL:P3D
REFRESH-INTERVAL:P3D
CALSCALE:GREGORIAN
BEGIN:VEVENT
DTSTART:20231004T120000Z
DTEND:20231004T140000Z
X-MICROSOFT-CDO-ALLDAYEVENT:FALSE
SUMMARY:''Made in the Tri-County Area'' Tour - DANA Incorporated
DESCRIPTION:Our first\, in the Chamber's series of tours of Members in the tri-county area.\n\nDana Incorporated is a leading supplier of fully integrated drivetrain and electrified propulsion systems for all passenger vehicles. The tour will begin at 8 AM with a Continental breakfast\, followed by the tour and presentation\, and will conclude at approximately 10 AM.\n\n\n\n\n\nMembers Only\n\n\n\n$10/Member in advance\n\n\n\nLimited to 20 participants - register today!\n\n\n\nRefunds will be granted for any cancellation received 24 hours in advance of the event. "No Shows" will be invoiced.
X-ALT-DESC;FMTTYPE=text/html:<p style="text-align: justify\;"><span style="font-size:16px\;"><big><span style="font-family:arial\;">Our first\, in the Chamber&rsquo\;s&nbsp\;series of tours of Members in the tri-county area.</span></big></span></p>\n\n<h2 style="text-align: justify\;"><span style="font-size:16px\;"><big><span style="font-family:arial\;"><span style="color: rgb(0\, 0\, 0)\; text-align: center\;"><strong>Dana Incorporated </strong>is a leading supplier of fully integrated drivetrain and electrified propulsion systems for all passenger vehicles.&nbsp\;</span><span style="text-align: justify\;">The tour will begin at 8 AM with a Continental breakfast\, followed by the tour and presentation\, and will conclude at approximately 10 AM.</span><br style="text-align: justify\;" />\n<br style="text-align: justify\;" />\n<br style="text-align: justify\;" />\n<strong style="text-align: justify\;"><span style="color: rgb(255\, 0\, 0)\;">Members Only</span></strong><br style="text-align: justify\;" />\n<br style="text-align: justify\;" />\n<span style="text-align: justify\;">$10/Member in advance</span><br style="text-align: justify\;" />\n<br style="text-align: justify\;" />\n<span style="text-align: justify\;">Limited to 20 participants - register today!</span><br style="text-align: justify\;" />\n<br style="text-align: justify\;" />\n<span style="text-align: justify\; color: rgb(255\, 0\, 0)\;">Refunds will be granted for any cancellation received 24 hours in advance of&nbsp\;the event. &ldquo\;No Shows&rdquo\; will be invoiced.</span></span></big></span></h2>\n
LOCATION:Dana Incorporated 1040 Center Avenue Pottstown\, PA 19464
UID:e.2183.858895
SEQUENCE:3
DTSTAMP:20260419T210356Z
URL:https://business.tricountyareachamber.com/events/details/made-in-the-tri-county-area-tour-dana-incorporated-858895
END:VEVENT

END:VCALENDAR
