BEGIN:VCALENDAR
VERSION:2.0
PRODID:-//ChamberMaster//Event Calendar 2.0//EN
METHOD:PUBLISH
X-PUBLISHED-TTL:P3D
REFRESH-INTERVAL:P3D
CALSCALE:GREGORIAN
BEGIN:VEVENT
DTSTART:20240130T133000Z
DTEND:20240130T150000Z
X-MICROSOFT-CDO-ALLDAYEVENT:FALSE
SUMMARY:''Made in the Tri-County Area'' Tour - Sealstrip Corporation
DESCRIPTION:What: Tour a manufacturer in your area.\n\n\n\nWhen: Tuesday\, January 30\, 2024\n\n\n\nTime: 8:30 AM - 10 AM\n\n\n\nWhere: Sealstrip Corporation in Gilbertsville\n\nWhy Attend:  Sealstrip Corporation is the leading manufacturer in the packaging industry specializing in printing\, slitting & rewinding pressure sensitive tapes for flexible packaging.  Join the tour to see how 50 years of engineering innovative solutions tackles today's markets.\n\n\n\nThis tour is limited to 25 members and is on a first come\, first serve basis.\n\n\n\nMembers only!\n\n\n\nRegistration required.
X-ALT-DESC;FMTTYPE=text/html:<p><span style="font-size: 16px\;"><span style="font-family: arial\;">What:&nbsp\;<strong>Tour a manufacturer in your area.</strong></span></span><br />\n<br />\n<span style="font-size: 16px\;"><span style="font-family: arial\;">When:<strong>&nbsp\;Tuesday\, January 30\, 2024</strong><br />\n<br />\nTime:<strong>&nbsp\;8:30 AM - 10&nbsp\;AM</strong><br />\n<br />\nWhere:&nbsp\;<strong>Sealstrip Corporation in Gilbertsville</strong></span></span></p>\n\n<p><span style="font-size: 16px\;"><span style="font-family: arial\;">Why Attend:&nbsp\;<strong>&nbsp\;</strong></span></span><span style="font-size:18px\;"><span style="font-family:arial\;"><b>Sealstrip Corporation&nbsp\;</b>is the&nbsp\;leading manufacturer in the packaging industry specializing in printing\, slitting &amp\; rewinding pressure sensitive tapes for flexible packaging.&nbsp\; Join the tour to see how</span></span><span style="color: rgb(41\, 41\, 41)\; font-family: Arimo\, sans-serif\; font-size: 17.3686px\;">&nbsp\;50 years of engineering innovative solutions tackles today&#39\;s markets.</span><br />\n<br />\n<span style="font-family:times new roman\,serif\;"><span style="font-size:12.0pt\;"><strong><span style="font-size:14px\;"><span style="font-family:arial\;">This tour is limited to 25 members and is on a first come\, first serve basis.</span></span></strong></span></span><br />\n<br />\n<span style="font-size:14px\;"><span style="font-family:arial\;"><span style="color:#FF0000\;"><strong>Members only!</strong></span><br />\n<br />\nRegistration required.<br />\n<br />\n<span style="color: rgb(255\, 0\, 0)\;">&nbsp\;</span></span></span></p>\n
LOCATION:Sealstrip Corporation 103 Industrial Drive Gilbertsville\, PA 19525
UID:e.2183.859297
SEQUENCE:3
DTSTAMP:20260421T102125Z
URL:https://business.tricountyareachamber.com/events/details/made-in-the-tri-county-area-tour-sealstrip-corporation-859297
END:VEVENT

END:VCALENDAR
