BEGIN:VCALENDAR
VERSION:2.0
PRODID:-//ChamberMaster//Event Calendar 2.0//EN
METHOD:PUBLISH
X-PUBLISHED-TTL:P3D
REFRESH-INTERVAL:P3D
CALSCALE:GREGORIAN
BEGIN:VEVENT
DTSTART:20240209T133000Z
DTEND:20240209T150000Z
X-MICROSOFT-CDO-ALLDAYEVENT:FALSE
SUMMARY:Made in the TriCounty Tour - Patrick J. Murphy & Associates Organbuilders
DESCRIPTION:What: Made in the TriCounty Tour\n\n\n\nWhen: Friday\, February 9\, 2024\n\n\n\nTime: 8:30 AM - 10 AM\n\n\n\nWhere: Patrick J. Murphy & Associates\n\n\n\nWhy Attend: Patrick J. Murphy & Associates is one of the largest\, full service\, pipe organbuilders in the Northeast\, and they are located here in the TriCounty area.  \n\nPatrick J. Murphy & Associates is comprised of a talented team of artists and craftsmen dedicated not only to the building of new instruments\, but also to the rebuilding\, restoration and routine maintenance and servicing of pipe organs of all styles and actions.\n\n\n\nJoin TCACC for coffee and donuts\, and a tour of the workshop\, where they build new and restore old pipe organs.
X-ALT-DESC;FMTTYPE=text/html:<p><span style="font-size:16px\;">What: <b>Made in the TriCounty Tour</b></span></p>\n\n<p><br />\n<span style="font-size:16px\;">When:<strong>&nbsp\;Friday\, February 9\, 2024</strong></span><br />\n<br />\n<span style="font-size:16px\;">Time:<strong>&nbsp\;8:30 AM - 10 AM</strong><br />\n<br />\nWhere:&nbsp\;</span><strong droid="" font-size:="" style="font-size: 16px\; box-sizing: border-box\; color: rgb(91\, 91\, 91)\;">Patrick J. Murphy &amp\; Associates</strong><br />\n<br />\n<span style="font-size:16px\;">Why Attend:&nbsp\;<strong droid="" font-size:="" style="box-sizing: border-box\; color: rgb(91\, 91\, 91)\; font-family: ">Patrick J. Murphy &amp\; Associates</strong><span droid="" font-size:="" style="color: rgb(91\, 91\, 91)\; font-family: ">&nbsp\;is one of the largest\,&nbsp\;</span><strong droid="" font-size:="" style="box-sizing: border-box\; color: rgb(91\, 91\, 91)\; font-family: "><em style="box-sizing: border-box\;">full service\,</em></strong><span droid="" font-size:="" style="color: rgb(91\, 91\, 91)\; font-family: ">&nbsp\;pipe organbuilders in the Northeast\, and they are located here in the TriCounty area.&nbsp\;&nbsp\;<br />\nPatrick J. Murphy &amp\; Associates is comprised of a talented team of artists and craftsmen dedicated not only to the building of new instruments\, but also to the rebuilding\, restoration and routine maintenance and servicing of pipe organs of all styles and actions.<br />\n<br />\nJoin TCACC for coffee and donuts\, and a tour of the workshop\, where they build new and restore old pipe organs.&nbsp\;&nbsp\;</span></span></p>\n
LOCATION:300 Old Reading Pike\, Suite 1-D Stowe\, PA 19464
UID:e.2183.859354
SEQUENCE:3
DTSTAMP:20260425T145859Z
URL:https://business.tricountyareachamber.com/events/details/made-in-the-tricounty-tour-patrick-j-murphy-associates-organbuilders-859354
END:VEVENT

END:VCALENDAR
