BEGIN:VCALENDAR
VERSION:2.0
PRODID:-//ChamberMaster//Event Calendar 2.0//EN
METHOD:PUBLISH
X-PUBLISHED-TTL:P3D
REFRESH-INTERVAL:P3D
CALSCALE:GREGORIAN
BEGIN:VEVENT
DTSTART:20170301T000000Z
DTEND:20170301T030000Z
X-MICROSOFT-CDO-ALLDAYEVENT:FALSE
SUMMARY:Malolactic Fermentation - Bacteria to Create that Smooth Buttery Flavor
DESCRIPTION:Learn how to make a wine with the silky buttery note that MLF can create. Malolactic fermentation (MLF) is a controlled bacterial fermentation when a lactic acid bacteria is introduced to convert the natural malic acid (a very tart acid) to lactic acid (much milder acid). In this course we'll discuss when MLF is appropriate\, what temperature is best\, and how oak and alcohol levels affect the process.\n \n\nVisit mc3.edu/homeartisans for more information or call 610.718.1944 (select option #2\, then #4 to register now!)
X-ALT-DESC;FMTTYPE=text/html:<span style="color: rgb(101\, 101\, 101)\; font-family: Arial\, Helvetica\, sans-serif\; font-size: 14px\; background-color: rgb(255\, 255\, 255)\;">Learn how to make a wine with the silky buttery note that MLF can create.&nbsp\;Malolactic fermentation (MLF) is a controlled bacterial fermentation when a lactic acid bacteria is introduced to convert the natural malic acid (a very tart acid) to lactic acid (much milder acid). In this course we&#39\;ll discuss when MLF is appropriate\, what temperature is best\, and how oak and alcohol levels affect the process.</span>\n<div>&nbsp\;</div>\n\n<div><span style="color: rgb(101\, 101\, 101)\; font-family: Arial\, Helvetica\, sans-serif\; font-size: 14px\; background-color: rgb(255\, 255\, 255)\;">Visit <a href="http://www.mc3.edu/component/content/article/96-campus-life/9823-home-artisans">mc3.edu/homeartisans</a> for more information or call 610.718.1944 (select option #2\, then #4 to register now!)</span></div>\n
LOCATION:Weak Knee 1277 North Charlotte Street Pottstown\, PA 19464
UID:e.2183.847403
SEQUENCE:3
DTSTAMP:20260420T164135Z
URL:https://business.tricountyareachamber.com/events/details/malolactic-fermentation-bacteria-to-create-that-smooth-buttery-flavor-847403
END:VEVENT

END:VCALENDAR
