BEGIN:VCALENDAR
VERSION:2.0
PRODID:-//ChamberMaster//Event Calendar 2.0//EN
METHOD:PUBLISH
X-PUBLISHED-TTL:P3D
REFRESH-INTERVAL:P3D
CALSCALE:GREGORIAN
BEGIN:VEVENT
DTSTART:20170428T123000Z
DTEND:20170428T140000Z
X-MICROSOFT-CDO-ALLDAYEVENT:FALSE
SUMMARY:"Managing Workplace Conflict" Workshop in Partnership with TCN
DESCRIPTION:As we continue our workshops on "Refresh Fridays"\, Adrean Turner\, "Coach Adrean"\, Career Fulfillment Expert\, will focus on how to discover ways to understand and resolve conflicts that are disruptive or unproductive for team success in a workplace full of diverse employees with differing strengths and weaknesses.  A workplace conflict study says that 85% of employees experience conflict to some degree and the typical manager spends 25-40% of his or her time dealing with these conflicts.
X-ALT-DESC;FMTTYPE=text/html:<span style="font-family:times new roman\,serif\;"><span style="font-size:12.0pt\;">As we continue our workshops on <strong>&ldquo\;Refresh Fridays&rdquo\;\,</strong> <strong>Adrean</strong> <strong>Turner\, &ldquo\;Coach Adrean&rdquo\;\,</strong> Career Fulfillment Expert\, will focus on how to discover ways to understand and resolve conflicts that are disruptive or unproductive for team success in a workplace full of diverse employees with differing strengths and weaknesses.&nbsp\; A workplace conflict study says that 85% of employees experience conflict to some degree and the typical manager spends 25-40% of his or her time dealing with these conflicts.&nbsp\;</span></span>
LOCATION:Chamber Office 152 E. High St.\, Suite 360 Pottstown\, PA 19464
UID:e.2183.847470
SEQUENCE:3
DTSTAMP:20260420T182042Z
URL:https://business.tricountyareachamber.com/events/details/managing-workplace-conflict-workshop-in-partnership-with-tcn-847470
END:VEVENT

END:VCALENDAR
