BEGIN:VCALENDAR
VERSION:2.0
PRODID:-//ChamberMaster//Event Calendar 2.0//EN
METHOD:PUBLISH
X-PUBLISHED-TTL:P3D
REFRESH-INTERVAL:P3D
CALSCALE:GREGORIAN
BEGIN:VEVENT
DTSTART:20180310T133000Z
DTEND:20180310T173000Z
X-MICROSOFT-CDO-ALLDAYEVENT:FALSE
SUMMARY:Manufest - Youth Manufacturing Expo
DESCRIPTION:Where Careers are Made!\n\n	Explore how things are made right in your own backyard\n	Learn about career pathways in manufacturing including design\, sales\, marketing\, engineering\, customer service\, accounting and more\n	Meet area employers. Find out what they look for in future employees\n	Make connections for possible internships and hands-on experience\n	Students attend Expo and Demos\n	Please check the ManuFest website for directions and transportation options.\n\nRegister at ManuFest2018.eventbrite.com.
X-ALT-DESC;FMTTYPE=text/html:Where Careers are Made!\n<ul>\n	<li>Explore how things are made right in your own backyard</li>\n	<li>Learn about career pathways in manufacturing including design\, sales\, marketing\, engineering\, customer service\, accounting and more</li>\n	<li>Meet area employers. Find out what they look for in future employees</li>\n	<li>Make connections for possible internships and hands-on experience</li>\n	<li>Students attend Expo and Demos</li>\n	<li>Please check the ManuFest website for directions and transportation options.</li>\n</ul>\nRegister at <a href="http://ManuFest2018.eventbrite.com">ManuFest2018.eventbrite.com</a>.
LOCATION:William Tennent High School 333 Centennial Rd. Warminster\, PA 18974
UID:e.2183.849177
SEQUENCE:3
DTSTAMP:20260421T124103Z
URL:https://business.tricountyareachamber.com/events/details/manufest-youth-manufacturing-expo-849177
END:VEVENT

END:VCALENDAR
