BEGIN:VCALENDAR
VERSION:2.0
PRODID:-//ChamberMaster//Event Calendar 2.0//EN
METHOD:PUBLISH
X-PUBLISHED-TTL:P3D
REFRESH-INTERVAL:P3D
CALSCALE:GREGORIAN
BEGIN:VEVENT
DTSTART:20170711T220000Z
DTEND:20170712T000000Z
X-MICROSOFT-CDO-ALLDAYEVENT:FALSE
SUMMARY:Math For Industry
DESCRIPTION:Designed specifically for manufacturing employees\, this 2-hour course meets twice per week\, evenings at our Blue Bell campus. Taught by a certified high school math teacher\, you'll focus on topics such as:\n\n\n	\n		\n			+ Measurements\n			+ Multiplication tables\n		\n		\n			+ Prime numbers\n			+ Scientific notation\n		\n		\n			+ Division\n			+ Fractions\n		\n		\n			+ Decimals\n			+ Percentages/ratios\n		\n		\n			+ Roots/radicals\n			+ Algebraic terms\n		\n		\n			+ Polynomials\n			 \n		\n	\n\n\nFor more information and to register\, call 215-641-6397 or email continuingeducation@mc3.edu. (Reference course code: BICST 1111)
X-ALT-DESC;FMTTYPE=text/html:<p style="margin: 15px 0px\; color: rgb(101\, 101\, 101)\; font-family: Arial\, Helvetica\, sans-serif\; font-size: 14px\; background-color: rgb(255\, 255\, 255)\;">Designed specifically for manufacturing employees\, this 2-hour course meets twice per week\, evenings at our Blue Bell campus. Taught by a certified high school math teacher\, you&#39\;ll focus on topics such as:</p>\n\n<table align="center" border="0" cellpadding="5" cellspacing="10" style="border-collapse: collapse\; border-spacing: 0px\; color: rgb(101\, 101\, 101)\; font-family: Arial\, Helvetica\, sans-serif\; font-size: 14px\; background-color: rgb(255\, 255\, 255)\; width: 450px\;">\n	<tbody>\n		<tr>\n			<td style="padding: 1px\;" valign="middle"><span style="font-weight: bolder\; font-size: 17px\; color: rgb(145\, 24\, 43)\;">+&nbsp\;</span>Measurements</td>\n			<td style="padding: 1px\;" valign="middle"><span style="font-weight: bolder\; font-size: 17px\; color: rgb(145\, 24\, 43)\;">+&nbsp\;</span>Multiplication tables</td>\n		</tr>\n		<tr>\n			<td style="padding: 1px\;" valign="middle"><span style="font-weight: bolder\; font-size: 17px\; color: rgb(145\, 24\, 43)\;">+&nbsp\;</span>Prime numbers</td>\n			<td style="padding: 1px\;" valign="middle"><span style="font-weight: bolder\; font-size: 17px\; color: rgb(145\, 24\, 43)\;">+&nbsp\;</span>Scientific notation</td>\n		</tr>\n		<tr>\n			<td style="padding: 1px\;" valign="middle"><span style="font-weight: bolder\; font-size: 17px\; color: rgb(145\, 24\, 43)\;">+&nbsp\;</span>Division</td>\n			<td style="padding: 1px\;" valign="middle"><span style="font-weight: bolder\; font-size: 17px\; color: rgb(145\, 24\, 43)\;">+&nbsp\;</span>Fractions</td>\n		</tr>\n		<tr>\n			<td style="padding: 1px\;" valign="middle"><span style="font-weight: bolder\; font-size: 17px\; color: rgb(145\, 24\, 43)\;">+&nbsp\;</span>Decimals</td>\n			<td style="padding: 1px\;" valign="middle"><span style="font-weight: bolder\; font-size: 17px\; color: rgb(145\, 24\, 43)\;">+&nbsp\;</span>Percentages/ratios</td>\n		</tr>\n		<tr>\n			<td style="padding: 1px\;" valign="middle"><span style="font-weight: bolder\; font-size: 17px\; color: rgb(145\, 24\, 43)\;">+&nbsp\;</span>Roots/radicals</td>\n			<td style="padding: 1px\;" valign="middle"><span style="font-weight: bolder\; font-size: 17px\; color: rgb(145\, 24\, 43)\;">+&nbsp\;</span>Algebraic terms</td>\n		</tr>\n		<tr>\n			<td style="padding: 1px\;" valign="middle"><span style="font-weight: bolder\; font-size: 17px\; color: rgb(145\, 24\, 43)\;">+&nbsp\;</span>Polynomials</td>\n			<td style="padding: 1px\;" valign="middle">&nbsp\;</td>\n		</tr>\n	</tbody>\n</table>\n\n<p style="margin: 15px 0px 0px\; color: rgb(101\, 101\, 101)\; font-family: Arial\, Helvetica\, sans-serif\; font-size: 14px\; background-color: rgb(255\, 255\, 255)\;"><strong style="color: rgb(112\, 112\, 112)\;">For more information and to register\, call 215-641-6397 or email&nbsp\;<span id="cloak88459"><a href="mailto:continuingeducation@mc3.edu" style="text-decoration-line: none\; color: rgb(104\, 2\, 22)\;" target="_blank" title="Contact Continuing Education at MCCC">continuingeducation@mc3.edu</a></span>. (Reference course code: BICST 1111)</strong></p>\n
LOCATION:MCCC West Campus South Hall\, Room 212 101 College Dr. Pottstown\, PA 19464
UID:e.2183.847654
SEQUENCE:3
DTSTAMP:20260420T232446Z
URL:https://business.tricountyareachamber.com/events/details/math-for-industry-847654
END:VEVENT

END:VCALENDAR
