BEGIN:VCALENDAR
VERSION:2.0
PRODID:-//ChamberMaster//Event Calendar 2.0//EN
METHOD:PUBLISH
X-PUBLISHED-TTL:P3D
REFRESH-INTERVAL:P3D
CALSCALE:GREGORIAN
BEGIN:VEVENT
DTSTART:20250321T220000Z
DTEND:20250322T000000Z
X-MICROSOFT-CDO-ALLDAYEVENT:FALSE
SUMMARY:MCCC hosts Kayla Ackelson’s exhibit ‘Meditations’
DESCRIPTION:Experience the meditative and immersive artwork of Kayla Ackelson as "Meditations\," her latest solo exhibition\, opens at Montgomery County Community College's North Hall Art Gallery of the Montco Cultural Center located at 16 East High Street in Pottstown. The gallery is on display March 21 April 11\, 2025 Reception: March 21\, 6-8 p.m. North Hall Gallery is open Monday -Thursday 8 a.m. to 9 p.m.\, Friday 8:30 a.m. to 4:30 p.m. and is closed Saturday and Sunday. For more information\, contact Patrick Rodgers\, Manager of the Montco Cultural Center\, at prdogers@mc3.edu.
X-ALT-DESC;FMTTYPE=text/html:Experience the meditative and immersive artwork of Kayla Ackelson as &ldquo\;Meditations\,&rdquo\; her latest solo exhibition\, opens at Montgomery County Community College&rsquo\;s North Hall Art Gallery of the Montco Cultural Center located at 16 East High Street in Pottstown. The gallery is on display March 21&ndash\;April 11\, 2025 Reception: March 21\, 6-8 p.m. North Hall Gallery is open Monday -Thursday 8 a.m. to 9 p.m.\, Friday 8:30 a.m. to 4:30 p.m. and is closed Saturday and Sunday. For more information\, contact Patrick Rodgers\, Manager of the Montco Cultural Center\, at prdogers@mc3.edu.
LOCATION:North Hall Art Gallery of the Montco Cultural Center located at 16 East High Street in Pottstown.
UID:e.2183.861714
SEQUENCE:3
DTSTAMP:20260421T113243Z
URL:https://business.tricountyareachamber.com/events/details/mccc-hosts-kayla-ackelson-s-exhibit-meditations-861714
END:VEVENT

END:VCALENDAR
