BEGIN:VCALENDAR
VERSION:2.0
PRODID:-//ChamberMaster//Event Calendar 2.0//EN
METHOD:PUBLISH
X-PUBLISHED-TTL:P3D
REFRESH-INTERVAL:P3D
CALSCALE:GREGORIAN
BEGIN:VEVENT
DTSTART:20250322T130000Z
DTEND:20250322T170000Z
X-MICROSOFT-CDO-ALLDAYEVENT:FALSE
SUMMARY:MCCC Sealant Saturday
DESCRIPTION:Flyer here\n\nFlyer here 2
X-ALT-DESC;FMTTYPE=text/html:<a href="https://chambermaster.blob.core.windows.net/userfiles/UserFiles/chambers/2183/File/SealantSaturdayFlyer2025.pdf">Flyer here</a><br />\n<a href="https://chambermaster.blob.core.windows.net/userfiles/UserFiles/chambers/2183/File/DentalHygieneflyer-updated20231.pdf">Flyer here 2</a>
LOCATION:
UID:e.2183.861595
SEQUENCE:3
DTSTAMP:20260421T125940Z
URL:https://business.tricountyareachamber.com/events/details/mccc-sealant-saturday-861595
END:VEVENT

END:VCALENDAR
