BEGIN:VCALENDAR
VERSION:2.0
PRODID:-//ChamberMaster//Event Calendar 2.0//EN
METHOD:PUBLISH
X-PUBLISHED-TTL:P3D
REFRESH-INTERVAL:P3D
CALSCALE:GREGORIAN
BEGIN:VEVENT
DTSTART:20161111T173000Z
DTEND:20161111T203000Z
X-MICROSOFT-CDO-ALLDAYEVENT:FALSE
SUMMARY:MCCC West End Student Theatre Presents Slip/Shot
DESCRIPTION:Slip / Shot by Jacqueline Goldfinger\n\nWinner\, Brown Martin Award\n\nWinner\, Barrymore Award for Outstanding New Play\n\nNamed one of the "Top 10 Productions of 2012" by Philadelphia Weekly\n\nA rookie police officer finds even an accident can have paralyzing consequences when his gun goes off in an encounter with a young African-American man: did his gun slip\, or was it shot? A heartbreaking drama about violence\, fear\, and our need to move forward.\n\nThis production contains adult themes and language\n\n \n\nThursday\, Friday & Saturday\n\nNovember 10\, 11\, 12 @7:00pm\n\n\n\nSpecial daytime performance \n\nFriday Nov 11 @12:30
X-ALT-DESC;FMTTYPE=text/html:<strong><span style="background:white\;"><span style="font-family:calibri\,sans-serif\;"><span style="font-size:14pt\;">Slip</span></span></span></strong><strong><span style="background:white\;"><span style="font-family:calibri\,sans-serif\;"><span style="font-size:14pt\;"> / Shot</span> </span></span></strong><em><span style="background:white\;"><span style="font-family:calibri\,sans-serif\;"><span style="font-size:14pt\;">by Jacqueline Goldfinger</span></span></span></em><br />\n<strong><em><span style="background:white\;"><span style="font-family:calibri\,sans-serif\;"><span style="font-size:14pt\;">Winner\,&nbsp\;Brown Martin Award</span></span></span></em></strong><br />\n<strong><em><span style="background:white\;"><span style="font-family:calibri\,sans-serif\;"><span style="font-size:14pt\;">Winner\,&nbsp\;Barrymore Award for Outstanding New Play</span></span></span></em></strong><br />\n<strong><em><span style="background:white\;"><span style="font-family:calibri\,sans-serif\;"><span style="font-size:14pt\;">Named one of the &quot\;Top 10 Productions of 2012&quot\; by Philadelphia Weekly</span></span></span></em></strong><br />\n<span style="background:white\;"><span style="font-family:calibri\,sans-serif\;"><span style="font-size:14pt\;">A rookie police officer finds even an accident can have paralyzing consequences when his gun goes off in an encounter with a young African-American man: did his gun slip</span>\, <span style="font-size:18px\;">or was it shot</span></span><span style="font-size:18px\;">? A heartbreaking drama about violence\, fear\, and our need to move forward.</span></span><br />\n<strong><span style="background:white\;"><span style="font-family:calibri\,sans-serif\;"><span style="font-size:14pt\;">This production contains adult themes and language</span></span></span></strong><br />\n&nbsp\;<br />\n<strong><span style="background:white\;"><span style="font-family:calibri\,sans-serif\;"><span style="font-size:14pt\;">Thursday\, Friday &amp\; Saturday<br />\nNovember 10\, 11\, 12 @7:00pm<br />\n<br />\n<em>Special daytime performance </em></span></span></span><br />\n<em><span style="background:white\;"><span style="font-family:calibri\,sans-serif\;"><span style="font-size:14pt\;">Friday Nov 11 @12:30</span></span></span></em></strong>
LOCATION:MCCC's South Hall Community Room\, 126 101 College Drive Pottstown\, PA 19464
UID:e.2183.847356
SEQUENCE:3
DTSTAMP:20260422T113458Z
URL:https://business.tricountyareachamber.com/events/details/mccc-west-end-student-theatre-presents-slip-shot-847356
END:VEVENT

END:VCALENDAR
