BEGIN:VCALENDAR
VERSION:2.0
PRODID:-//ChamberMaster//Event Calendar 2.0//EN
METHOD:PUBLISH
X-PUBLISHED-TTL:P3D
REFRESH-INTERVAL:P3D
CALSCALE:GREGORIAN
BEGIN:VEVENT
DTSTART:20231103T233000Z
DTEND:20231104T020000Z
X-MICROSOFT-CDO-ALLDAYEVENT:FALSE
SUMMARY:MCT presents A GENTLEMAN'S GUIDE TO LOVE AND MURDER
DESCRIPTION:Methacton Community Theater (MCT) presents A GENTLEMAN'S GUIDE TO LOVE AND MURDER on November 3\, 4\, 10\, 11 at 7:30pm and November 5\, 12 at 2:00pm at SHANNONDELL PERFORMING ARTS CENTER AT THE BRADFORD CLUBHOUSE\, 10000 Shannondell Drive\, Audubon\, PA 19403 $24 general admission\, $20 senior (62+) and youth (under 18) Tickets can be purchased on-line at https://methactoncommunitytheater.ticketleap.com or at the door. All parking for patrons is at the Giant Supermarket Shopping Lot. A free shuttle will transport you to the Performing Arts Theater. The shuttle starts 1 hour before curtain. Call 610-489-6449 for more information. When the low-born Monty Navarro finds out that he's eighth in line for an earldom in the lofty D'Ysquith family\, he figures his chances of outliving his predecessors are slight and sets off down a far more ghoulish path. Can he knock off his unsuspecting relatives without being caught and become the ninth Earl of Highhurst? And what of love? Because murder isn't the only thing on Monty's mind....
X-ALT-DESC;FMTTYPE=text/html:Methacton Community Theater (MCT) presents A GENTLEMAN&rsquo\;S GUIDE TO LOVE AND MURDER on November 3\, 4\, 10\, 11 at 7:30pm and November 5\, 12 at 2:00pm at SHANNONDELL PERFORMING ARTS CENTER AT THE BRADFORD CLUBHOUSE\, 10000 Shannondell Drive\, Audubon\, PA 19403 $24 general admission\, $20 senior (62+) and youth (under 18) Tickets can be purchased on-line at https://methactoncommunitytheater.ticketleap.com or at the door. All parking for patrons is at the Giant Supermarket Shopping Lot. A free shuttle will transport you to the Performing Arts Theater. The shuttle starts 1 hour before curtain. Call 610-489-6449 for more information. When the low-born Monty Navarro finds out that he&#39\;s eighth in line for an earldom in the lofty D&#39\;Ysquith family\, he figures his chances of outliving his predecessors are slight and sets off down a far more ghoulish path. Can he knock off his unsuspecting relatives without being caught and become the ninth Earl of Highhurst? And what of love? Because murder isn&#39\;t the only thing on Monty&#39\;s mind....
LOCATION:SHANNONDELL PERFORMING ARTS CENTER AT THE BRADFORD CLUBHOUSE\, 10000 Shannondell Drive\, Audubon\, PA 19403
UID:e.2183.859018
SEQUENCE:3
DTSTAMP:20260419T140906Z
URL:https://business.tricountyareachamber.com/events/details/mct-presents-a-gentleman-s-guide-to-love-and-murder-859018
END:VEVENT

END:VCALENDAR
