BEGIN:VCALENDAR
VERSION:2.0
PRODID:-//ChamberMaster//Event Calendar 2.0//EN
METHOD:PUBLISH
X-PUBLISHED-TTL:P3D
REFRESH-INTERVAL:P3D
CALSCALE:GREGORIAN
BEGIN:VEVENT
DTSTART;VALUE=DATE:20210506
DTEND;VALUE=DATE:20210510
TRANSP:TRANSPARENT
X-MICROSOFT-CDO-ALLDAYEVENT:TRUE
SUMMARY:MCT presents BETWEEN KITSCH AND QUARANTINE
DESCRIPTION:Methacton Community Theater (MCT) presents an on-demand virtual performance of "Between Kitsch & Quarantine" streaming May 6-9\, 2021. Directed by Deb Schrager & Kate McShane\, written by Elisabeth Majewski. Tickets cost $15 and can be purchased at https://methactoncommunitytheater.ticketleap.com/between-kitsch-and-quarantine/ A viewing link will be emailed prior to the performance.
X-ALT-DESC;FMTTYPE=text/html:Methacton Community Theater (MCT) presents an on-demand virtual performance of &ldquo\;Between Kitsch &amp\; Quarantine&rdquo\; streaming May 6-9\, 2021. Directed by Deb Schrager &amp\; Kate McShane\, written by Elisabeth Majewski. Tickets cost $15 and can be purchased at https://methactoncommunitytheater.ticketleap.com/between-kitsch-and-quarantine/ A viewing link will be emailed prior to the performance.
LOCATION:Virtual performance
UID:e.2183.856556
SEQUENCE:3
DTSTAMP:20260425T103446Z
URL:https://business.tricountyareachamber.com/events/details/mct-presents-between-kitsch-and-quarantine-856556
END:VEVENT

END:VCALENDAR
