BEGIN:VCALENDAR
VERSION:2.0
PRODID:-//ChamberMaster//Event Calendar 2.0//EN
METHOD:PUBLISH
X-PUBLISHED-TTL:P3D
REFRESH-INTERVAL:P3D
CALSCALE:GREGORIAN
BEGIN:VEVENT
DTSTART:20240518T233000Z
DTEND:20240519T020000Z
X-MICROSOFT-CDO-ALLDAYEVENT:FALSE
SUMMARY:MCT presents PETER AND THE STARCATCHER
DESCRIPTION:Methacton Community Theater (MCT) presents PETER AND THE STARCATCHER May 10\, 11\, 17\, 18 at 7:30pm and May 12\, 19 at 2:00pm at the Shannondell Performing Arts Theater at the Bradford Clubhouse\, 10000 Shannondell Drive\, Audubon\, PA 19403. Tickets are $20-$24 and can be purchased online at https://methactoncommunitytheater.ticketleap.com/peter-and-the-starcatcher/ or at the door. All parking for patrons is at the Giant Supermarket Shopping Lot. A free shuttle will transport you to the Performing Arts Theater. The shuttle starts 1 hour before curtain. Call 610-489-6449 for more information. Peter and the Starcatcher provides a humorous and fantastical backstory for the beloved character of Peter Pan and his arch-nemesis Captain Hook. In this wickedly imaginative play\, we meet a poor orphaned child on the high seas simply called Boy because\, in the absence of a mother and a father\, he was never given a name. His sad and lonely world is turned upside down when he meets Molly. The daughter of famous Starcatcher Lord Astor\, our heroine is on a mission to save the world and protect a treasure trunk filled with magical star stuff from getting into the hands of evil and greedy pirate Black Stache. As they travel aboard the Neverland ship headed for a faraway land\, Molly and Boy learn about love\, friendship and forge an unbreakable bond.
X-ALT-DESC;FMTTYPE=text/html:Methacton Community Theater (MCT) presents PETER AND THE STARCATCHER May 10\, 11\, 17\, 18 at 7:30pm and May 12\, 19 at 2:00pm at the Shannondell Performing Arts Theater at the Bradford Clubhouse\, 10000 Shannondell Drive\, Audubon\, PA 19403. Tickets are $20-$24 and can be purchased online at https://methactoncommunitytheater.ticketleap.com/peter-and-the-starcatcher/ or at the door. All parking for patrons is at the Giant Supermarket Shopping Lot. A free shuttle will transport you to the Performing Arts Theater. The shuttle starts 1 hour before curtain. Call 610-489-6449 for more information. Peter and the Starcatcher provides a humorous and fantastical backstory for the beloved character of Peter Pan and his arch-nemesis Captain Hook. In this wickedly imaginative play\, we meet a poor orphaned child on the high seas simply called Boy because\, in the absence of a mother and a father\, he was never given a name. His sad and lonely world is turned upside down when he meets Molly. The daughter of famous Starcatcher Lord Astor\, our heroine is on a mission to save the world and protect a treasure trunk filled with magical star stuff from getting into the hands of evil and greedy pirate Black Stache. As they travel aboard the Neverland ship headed for a faraway land\, Molly and Boy learn about love\, friendship and forge an unbreakable bond.
LOCATION:Shannondell Performing Arts Theater at the Bradford Clubhouse\, 10000 Shannondell Drive\, Audubon\, PA 19403.
UID:e.2183.860457
SEQUENCE:3
DTSTAMP:20260426T030726Z
URL:https://business.tricountyareachamber.com/events/details/mct-presents-peter-and-the-starcatcher-05-18-2024-860457
END:VEVENT

END:VCALENDAR
