BEGIN:VCALENDAR
VERSION:2.0
PRODID:-//ChamberMaster//Event Calendar 2.0//EN
METHOD:PUBLISH
X-PUBLISHED-TTL:P3D
REFRESH-INTERVAL:P3D
CALSCALE:GREGORIAN
BEGIN:VEVENT
DTSTART:20210121T170000Z
DTEND:20210121T180000Z
X-MICROSOFT-CDO-ALLDAYEVENT:FALSE
SUMMARY:Medicare Workshop
DESCRIPTION:KALEJTA FINANCIAL MANAGEMENT is excited to have HTA's Medicare Insurance Specialist Brenda Rich visiting to present:\n\nROADMAP TO MEDICARE\n\nEducational Seminar\n\nThursday\, January 21st at 12:00PM- 1PM  \n\n(link to view presentation will be provided to those who can not attend)\n\nDesigned for those: *Nearing age 65 * Nearing Retirement *Working Past age 65 and ALL Retirees\n\nLearn How to Get and Stay Medicare Insurance Ready\n\nJoin us for a live interactive power point presentation & get your questions answered. \n\nCome learn \n\nImportant Timeframes:\n\n\n	What you should be doing as a retiree or soon to be retiree\n	Open Enrollment and Guaranteed Issue Periods\, plus late penalties\n	What happens when you and your spouse do not turn 65 at the same time\n	When to enroll or defer Medicare Part B if not retiring at age 65\n	Changing carriers how & when\n\n\nMake sure your coverage is complete:\n\n\n	What does Medicare cover and not cover\n	Is secondary insurance necessary and what are the options\n	How do a Medicare Supplement and Original Medicare coordinate\n\n\nGuidance regarding your personal situation and much more \n\nBring your questions  this is a great opportunity to gather helpful information.\n\nAll are welcome--Please invite a friend!\n\n This is an educational presentation for consumers no cost to attendees.\n\nBrenda Rich is not affiliated with Voya Financial Advisors.
X-ALT-DESC;FMTTYPE=text/html:<p style="box-sizing: border-box\; margin-bottom: 15px\; line-height: 1.5\; margin-top: 0px\; color: rgb(34\, 34\, 34)\; font-family: Roboto\, sans-serif\; font-size: 16px\; background-color: rgb(255\, 255\, 255)\;"><strong style="box-sizing: border-box\;"><em style="box-sizing: border-box\;">KALEJTA FINANCIAL MANAGEMENT&nbsp\;</em></strong><em style="box-sizing: border-box\;">is excited to have HTA&#39\;s Medicare Insurance Specialist Brenda Rich&nbsp\;visiting to present:</em></p>\n\n<p style="box-sizing: border-box\; margin-bottom: 15px\; line-height: 1.5\; margin-top: 0px\; color: rgb(34\, 34\, 34)\; font-family: Roboto\, sans-serif\; font-size: 16px\; background-color: rgb(255\, 255\, 255)\;"><strong style="box-sizing: border-box\;"><strong style="box-sizing: border-box\;"><em style="box-sizing: border-box\;">ROADMAP TO MEDICARE</em></strong></strong></p>\n\n<p style="box-sizing: border-box\; margin-bottom: 15px\; line-height: 1.5\; margin-top: 0px\; color: rgb(34\, 34\, 34)\; font-family: Roboto\, sans-serif\; font-size: 16px\; background-color: rgb(255\, 255\, 255)\;"><strong style="box-sizing: border-box\;">Educational Seminar</strong></p>\n\n<p style="box-sizing: border-box\; margin-bottom: 15px\; line-height: 1.5\; margin-top: 0px\; color: rgb(34\, 34\, 34)\; font-family: Roboto\, sans-serif\; font-size: 16px\; background-color: rgb(255\, 255\, 255)\;"><strong style="box-sizing: border-box\;">Thursday\, January 21st at 12:00PM- 1PM&nbsp\;</strong>&nbsp\;</p>\n\n<p style="box-sizing: border-box\; margin-bottom: 15px\; line-height: 1.5\; margin-top: 0px\; color: rgb(34\, 34\, 34)\; font-family: Roboto\, sans-serif\; font-size: 16px\; background-color: rgb(255\, 255\, 255)\;">(link to view presentation will be provided to those who can not attend)</p>\n\n<p style="box-sizing: border-box\; margin-bottom: 15px\; line-height: 1.5\; margin-top: 0px\; color: rgb(34\, 34\, 34)\; font-family: Roboto\, sans-serif\; font-size: 16px\; background-color: rgb(255\, 255\, 255)\;"><strong style="box-sizing: border-box\;"><em style="box-sizing: border-box\;">Designed for those: *Nearing age 65 * Nearing Retirement&nbsp\;</em></strong>*<strong style="box-sizing: border-box\;"><em style="box-sizing: border-box\;">Working Past age 65 and ALL Retirees</em></strong></p>\n\n<p style="box-sizing: border-box\; margin-bottom: 15px\; line-height: 1.5\; margin-top: 0px\; color: rgb(34\, 34\, 34)\; font-family: Roboto\, sans-serif\; font-size: 16px\; background-color: rgb(255\, 255\, 255)\;"><strong style="box-sizing: border-box\;"><em style="box-sizing: border-box\;">Learn How to Get and Stay Medicare Insurance Ready</em></strong></p>\n\n<p style="box-sizing: border-box\; margin-bottom: 15px\; line-height: 1.5\; margin-top: 0px\; color: rgb(34\, 34\, 34)\; font-family: Roboto\, sans-serif\; font-size: 16px\; background-color: rgb(255\, 255\, 255)\;"><strong style="box-sizing: border-box\;">Join us for a live interactive power point presentation &amp\; get your questions answered.&nbsp\;</strong></p>\n\n<p style="box-sizing: border-box\; margin-bottom: 15px\; line-height: 1.5\; margin-top: 0px\; color: rgb(34\, 34\, 34)\; font-family: Roboto\, sans-serif\; font-size: 16px\; background-color: rgb(255\, 255\, 255)\;"><strong style="box-sizing: border-box\;">Come learn</strong><strong style="box-sizing: border-box\;">&hellip\;</strong></p>\n\n<p style="box-sizing: border-box\; margin-bottom: 15px\; line-height: 1.5\; margin-top: 0px\; color: rgb(34\, 34\, 34)\; font-family: Roboto\, sans-serif\; font-size: 16px\; background-color: rgb(255\, 255\, 255)\;"><strong style="box-sizing: border-box\;">Important Timeframes:</strong></p>\n\n<ul style="box-sizing: border-box\; margin-bottom: 20px\; padding-left: 30px\; color: rgb(34\, 34\, 34)\; font-family: Roboto\, sans-serif\; font-size: 16px\; background-color: rgb(255\, 255\, 255)\;">\n	<li style="box-sizing: border-box\; margin: 0px 0px 5px\;">What you should be doing as a retiree or soon to be retiree</li>\n	<li style="box-sizing: border-box\; margin: 0px 0px 5px\;">Open Enrollment and Guaranteed Issue Periods\, plus late penalties</li>\n	<li style="box-sizing: border-box\; margin: 0px 0px 5px\;">What happens when you and your spouse do not turn 65 at the same time</li>\n	<li style="box-sizing: border-box\; margin: 0px 0px 5px\;">When to enroll or defer Medicare Part B if not retiring at age 65</li>\n	<li style="box-sizing: border-box\; margin: 0px\;">Changing carriers&mdash\;how &amp\; when</li>\n</ul>\n\n<p style="box-sizing: border-box\; margin-bottom: 15px\; line-height: 1.5\; margin-top: 0px\; color: rgb(34\, 34\, 34)\; font-family: Roboto\, sans-serif\; font-size: 16px\; background-color: rgb(255\, 255\, 255)\;"><strong style="box-sizing: border-box\;">Make sure your coverage is complete:</strong></p>\n\n<ul style="box-sizing: border-box\; margin-bottom: 20px\; padding-left: 30px\; color: rgb(34\, 34\, 34)\; font-family: Roboto\, sans-serif\; font-size: 16px\; background-color: rgb(255\, 255\, 255)\;">\n	<li style="box-sizing: border-box\; margin: 0px 0px 5px\;">What does Medicare cover and not cover</li>\n	<li style="box-sizing: border-box\; margin: 0px 0px 5px\;">Is secondary insurance necessary and what are the options</li>\n	<li style="box-sizing: border-box\; margin: 0px\;">How do a Medicare Supplement and Original Medicare coordinate</li>\n</ul>\n\n<p style="box-sizing: border-box\; margin-bottom: 15px\; line-height: 1.5\; margin-top: 0px\; color: rgb(34\, 34\, 34)\; font-family: Roboto\, sans-serif\; font-size: 16px\; background-color: rgb(255\, 255\, 255)\;"><strong style="box-sizing: border-box\;">Guidance regarding your personal situation and much more&hellip\;</strong></p>\n\n<p style="box-sizing: border-box\; margin-bottom: 15px\; line-height: 1.5\; margin-top: 0px\; color: rgb(34\, 34\, 34)\; font-family: Roboto\, sans-serif\; font-size: 16px\; background-color: rgb(255\, 255\, 255)\;"><strong style="box-sizing: border-box\;">Bring your questions&hellip\; this is a great opportunity to gather helpful information.</strong></p>\n\n<p style="box-sizing: border-box\; margin-bottom: 15px\; line-height: 1.5\; margin-top: 0px\; color: rgb(34\, 34\, 34)\; font-family: Roboto\, sans-serif\; font-size: 16px\; background-color: rgb(255\, 255\, 255)\;"><strong style="box-sizing: border-box\;">All are welcome--Please invite a friend!</strong></p>\n\n<p style="box-sizing: border-box\; margin-bottom: 15px\; line-height: 1.5\; margin-top: 0px\; color: rgb(34\, 34\, 34)\; font-family: Roboto\, sans-serif\; font-size: 16px\; background-color: rgb(255\, 255\, 255)\;">&nbsp\;<em style="box-sizing: border-box\;">This is an educational presentation for consumers&mdash\;no cost to attendees.<br style="box-sizing: border-box\;" />\nBrenda Rich is not affiliated with Voya Financial Advisors.</em></p>\n
LOCATION:Virtual
UID:e.2183.856435
SEQUENCE:3
DTSTAMP:20260425T153214Z
URL:https://business.tricountyareachamber.com/events/details/medicare-workshop-856435
END:VEVENT

END:VCALENDAR
