BEGIN:VCALENDAR
VERSION:2.0
PRODID:-//ChamberMaster//Event Calendar 2.0//EN
METHOD:PUBLISH
X-PUBLISHED-TTL:P3D
REFRESH-INTERVAL:P3D
CALSCALE:GREGORIAN
BEGIN:VEVENT
DTSTART:20200903T160000Z
DTEND:20200903T170000Z
X-MICROSOFT-CDO-ALLDAYEVENT:FALSE
SUMMARY:Medicare Workshop (Webinar)
DESCRIPTION:Designed for those: *Nearing age 65 * Nearing Retirement * Working Past age 65 and ALL Retirees\n\n Learn How to Get and Stay Medicare Insurance Ready\n\nJoin us for a live interactive power point presentation & get your questions answered. \n\nCome learn \n\nImportant Timeframes:\n\n\n	What you should be doing as a retiree or soon to be retiree\n	Open Enrollment and Guaranteed Issue Periods\, plus late penalties\n	What happens when you and your spouse do not turn 65 at the same time\n	When to enroll or defer Medicare Part B if not retiring at age 65\n	Changing carriers how & when\n\n\n Make sure your coverage is complete:\n\n\n	What does Medicare cover and not cover\n	Is secondary insurance necessary and what are the options\n	How do a Medicare Supplement and Original Medicare coordinate\n\n\nGuidance regarding your personal situation and much more \n\nBring your questions  this is a great opportunity to gather helpful information.\n\nAll are welcome--Please bring a friend!\n\nThis is an educational presentation for consumers no cost to attendees\n\nRegistered representative of and securities offered through Voya Financial Advisors\, Inc. (member SIPC).Kalejta Financial Management is not a subsidiary of nor controlled by Voya Financial Advisors. Joan Mile nor HTA are associated with Voya Financial Advisors. The Investment advisor representative(s) associated with this communication are licensed and registered in the following states: registered to sell securities in Delaware (DE)\, Florida (FL)\, Massachusetts (MA)\, Maryland (MD)\, North Carolina (NC)\, New Jersey (NJ)\, New York (NY)\, Ohio (OH)\, Pennsylvania (PA)\, Virginia (VA) and Wisconsin (WI)\, and licensed to sell Insurance in Delaware (DE)\, Illinois (IL)Florida (FL)\, Maryland (MD)\, New Jersey (NJ)\, North Carolina (NC) and Pennsylvania (PA).\n\nInvestment adviser representative and registered representative of\, and securities and investment advisory services offered through Voya Financial Advisors\, Inc. (member SIPC). Kalejta Financial Management is not a subsidiary of nor controlled by Voya Financial Advisors. CN1291520_0921
X-ALT-DESC;FMTTYPE=text/html:<p style="box-sizing: border-box\; margin-bottom: 15px\; line-height: 1.5\; margin-top: 0px\; color: rgb(34\, 34\, 34)\; font-family: Roboto\, sans-serif\; font-size: 16px\; background-color: rgb(255\, 255\, 255)\;"><strong style="box-sizing: border-box\;"><em style="box-sizing: border-box\;">Designed for those: *Nearing age 65 * Nearing Retirement</em></strong><strong style="box-sizing: border-box\;">&nbsp\;*&nbsp\;<em style="box-sizing: border-box\;">Working Past age 65&nbsp\;</em></strong><strong style="box-sizing: border-box\;"><em style="box-sizing: border-box\;">and ALL Retirees</em></strong></p>\n\n<p style="box-sizing: border-box\; margin-bottom: 15px\; line-height: 1.5\; margin-top: 0px\; color: rgb(34\, 34\, 34)\; font-family: Roboto\, sans-serif\; font-size: 16px\; background-color: rgb(255\, 255\, 255)\;"><strong style="box-sizing: border-box\;">&nbsp\;</strong><strong style="box-sizing: border-box\;"><em style="box-sizing: border-box\;">Learn How to Get and Stay Medicare Insurance Ready</em></strong></p>\n\n<p style="box-sizing: border-box\; margin-bottom: 15px\; line-height: 1.5\; margin-top: 0px\; color: rgb(34\, 34\, 34)\; font-family: Roboto\, sans-serif\; font-size: 16px\; background-color: rgb(255\, 255\, 255)\;"><strong style="box-sizing: border-box\;">Join us for a live interactive power point presentation &amp\; get your questions answered.&nbsp\;</strong></p>\n\n<p style="box-sizing: border-box\; margin-bottom: 15px\; line-height: 1.5\; margin-top: 0px\; color: rgb(34\, 34\, 34)\; font-family: Roboto\, sans-serif\; font-size: 16px\; background-color: rgb(255\, 255\, 255)\;"><strong style="box-sizing: border-box\;">Come learn&hellip\;</strong></p>\n\n<p style="box-sizing: border-box\; margin-bottom: 15px\; line-height: 1.5\; margin-top: 0px\; color: rgb(34\, 34\, 34)\; font-family: Roboto\, sans-serif\; font-size: 16px\; background-color: rgb(255\, 255\, 255)\;"><strong style="box-sizing: border-box\;">Important Timeframes:</strong></p>\n\n<ul style="box-sizing: border-box\; margin-bottom: 20px\; padding-left: 30px\; color: rgb(34\, 34\, 34)\; font-family: Roboto\, sans-serif\; font-size: 16px\; background-color: rgb(255\, 255\, 255)\;">\n	<li style="box-sizing: border-box\; margin: 0px 0px 5px\;">What you should be doing as a retiree or soon to be retiree</li>\n	<li style="box-sizing: border-box\; margin: 0px 0px 5px\;">Open Enrollment and Guaranteed Issue Periods\, plus late penalties</li>\n	<li style="box-sizing: border-box\; margin: 0px 0px 5px\;">What happens when you and your spouse do not turn 65 at the same time</li>\n	<li style="box-sizing: border-box\; margin: 0px 0px 5px\;">When to enroll or defer Medicare Part B if not retiring at age 65</li>\n	<li style="box-sizing: border-box\; margin: 0px\;">Changing carriers&mdash\;how &amp\; when</li>\n</ul>\n\n<p style="box-sizing: border-box\; margin-bottom: 15px\; line-height: 1.5\; margin-top: 0px\; color: rgb(34\, 34\, 34)\; font-family: Roboto\, sans-serif\; font-size: 16px\; background-color: rgb(255\, 255\, 255)\;">&nbsp\;<strong style="box-sizing: border-box\;">Make sure your coverage is complete:</strong></p>\n\n<ul style="box-sizing: border-box\; margin-bottom: 20px\; padding-left: 30px\; color: rgb(34\, 34\, 34)\; font-family: Roboto\, sans-serif\; font-size: 16px\; background-color: rgb(255\, 255\, 255)\;">\n	<li style="box-sizing: border-box\; margin: 0px 0px 5px\;">What does Medicare cover and not cover</li>\n	<li style="box-sizing: border-box\; margin: 0px 0px 5px\;">Is secondary insurance necessary and what are the options</li>\n	<li style="box-sizing: border-box\; margin: 0px\;">How do a Medicare Supplement and Original Medicare coordinate</li>\n</ul>\n\n<p style="box-sizing: border-box\; margin-bottom: 15px\; line-height: 1.5\; margin-top: 0px\; color: rgb(34\, 34\, 34)\; font-family: Roboto\, sans-serif\; font-size: 16px\; background-color: rgb(255\, 255\, 255)\;"><strong style="box-sizing: border-box\;">Guidance regarding your personal situation and much more&hellip\;</strong></p>\n\n<p style="box-sizing: border-box\; margin-bottom: 15px\; line-height: 1.5\; margin-top: 0px\; color: rgb(34\, 34\, 34)\; font-family: Roboto\, sans-serif\; font-size: 16px\; background-color: rgb(255\, 255\, 255)\;"><strong style="box-sizing: border-box\;">Bring your questions&hellip\; this is a great opportunity to gather helpful information.</strong></p>\n\n<p style="box-sizing: border-box\; margin-bottom: 15px\; line-height: 1.5\; margin-top: 0px\; color: rgb(34\, 34\, 34)\; font-family: Roboto\, sans-serif\; font-size: 16px\; background-color: rgb(255\, 255\, 255)\;"><strong style="box-sizing: border-box\;">All are welcome--Please bring a friend!</strong></p>\n\n<p style="box-sizing: border-box\; margin-bottom: 15px\; line-height: 1.5\; margin-top: 0px\; color: rgb(34\, 34\, 34)\; font-family: Roboto\, sans-serif\; font-size: 16px\; background-color: rgb(255\, 255\, 255)\;"><em style="box-sizing: border-box\;">This is an educational presentation for consumers&mdash\;no cost to attendees</em></p>\n\n<h6 style="box-sizing: border-box\; font-size: 0.75em\; font-family: Lato\, sans-serif\; line-height: 1.2\; color: rgb(82\, 31\, 30)\; background-color: rgb(255\, 255\, 255)\;">Registered representative of and securities offered through Voya Financial Advisors\, Inc. (member SIPC).Kalejta Financial Management is not a subsidiary of nor controlled by Voya Financial Advisors. Joan Mile nor HTA are associated with Voya Financial Advisors. The Investment advisor representative(s) associated with this communication are licensed and registered in the following states: registered to sell securities in Delaware (DE)\, Florida (FL)\, Massachusetts (MA)\, Maryland (MD)\, North Carolina (NC)\, New Jersey (NJ)\, New York (NY)\, Ohio (OH)\, Pennsylvania (PA)\, Virginia (VA) and Wisconsin (WI)\, and licensed to sell Insurance in Delaware (DE)\, Illinois (IL)Florida (FL)\,&nbsp\;Maryland (MD)\, New Jersey (NJ)\, North Carolina (NC) and Pennsylvania (PA).</h6>\n\n<h6 style="box-sizing: border-box\; font-size: 0.75em\; font-family: Lato\, sans-serif\; line-height: 1.2\; color: rgb(82\, 31\, 30)\; background-color: rgb(255\, 255\, 255)\;">Investment adviser representative and registered representative of\, and securities and investment advisory services offered through Voya Financial Advisors\, Inc. (member SIPC). Kalejta Financial Management is not a subsidiary of nor controlled by&nbsp\;Voya Financial Advisors. CN1291520_0921</h6>\n
LOCATION:Webinar
UID:e.2183.856324
SEQUENCE:3
DTSTAMP:20260425T214245Z
URL:https://business.tricountyareachamber.com/events/details/medicare-workshop-webinar-856324
END:VEVENT

END:VCALENDAR
