BEGIN:VCALENDAR
VERSION:2.0
PRODID:-//ChamberMaster//Event Calendar 2.0//EN
METHOD:PUBLISH
X-PUBLISHED-TTL:P3D
REFRESH-INTERVAL:P3D
CALSCALE:GREGORIAN
BEGIN:VEVENT
DTSTART:20210612T140000Z
DTEND:20210612T150000Z
X-MICROSOFT-CDO-ALLDAYEVENT:FALSE
SUMMARY:Medicine on the Move
DESCRIPTION:Join us for a walk and talk event at Limerick Community Park in Royersford where you can enjoy walking in the Spring weather and get to know Dr. Heisman-Rifkin outside of the office. Dr. Heisman-Rifkin will provide education on building and maintaining a healthy lifestyle and will lead an engaging walk around the park. At the conclusion of the walk\, a healthy snack and water will be provided. All participants will receive a free pedometer!\n\nPlease Note: Social distancing will be in effect and all participants will be required to wear a mask.\n\n\nInstructor(s)\n\n\n	Nicole Heisman-Rifkin\, DO\n\n\n\nContact\n\nCasey Fenoglio\, MPH\, CHES\, Community Wellness Program Manager at 610-327-7035 or send an email
X-ALT-DESC;FMTTYPE=text/html:<div class="TopicText" id="VsMasterPage_MainContent_TopicText" style="margin: 0px\; padding: 0px\; box-sizing: border-box\; color: rgb(64\, 64\, 65)\; font-family: canada-type-gibson\, Helvetica\, Arial\, &quot\;Nimbus Sans L&quot\;\, sans-serif\; font-size: 19.2px\;">\n<div class="TopicText" id="VsMasterPage_MainContent_TopicText" style="margin: 0px\; padding: 0px\; box-sizing: border-box\; color: rgb(64\, 64\, 65)\; font-family: canada-type-gibson\, Helvetica\, Arial\, &quot\;Nimbus Sans L&quot\;\, sans-serif\; font-size: 19.2px\;">\n<p style="margin: 0px 0px 20px\; padding: 0px\; box-sizing: border-box\;">Join us for a walk and talk event at&nbsp\;Limerick Community Park&nbsp\;in Royersford where you can enjoy walking in the Spring&nbsp\;weather and get to know Dr. Heisman-Rifkin outside of the office. Dr. Heisman-Rifkin will provide education on building and maintaining a healthy lifestyle and will lead an engaging walk around the park. At the conclusion of the walk\, a healthy snack and water will be provided. All participants will receive a free pedometer!</p>\n\n<p style="margin: 0px 0px 20px\; padding: 0px\; box-sizing: border-box\;">Please Note: Social distancing will be&nbsp\;in effect&nbsp\;and all participants&nbsp\;will be&nbsp\;required to wear a mask.</p>\n</div>\n\n<h3 style="margin: 0.85714em 0px 0.64286em\; padding: 0px\; box-sizing: border-box\; font-family: &quot\;Avenir LT W01_45 Book1475508&quot\;\, sans-serif\; color: rgb(0\, 48\, 85)\; font-size: 1.75em\; line-height: 1.15714em\;">Instructor(s)</h3>\n\n<ul style="margin: 0px 0px 30px 0.6em\; padding: 0px 0px 0px 0.6em\; box-sizing: border-box\; line-height: inherit\; color: rgb(64\, 64\, 65)\; font-family: canada-type-gibson\, Helvetica\, Arial\, &quot\;Nimbus Sans L&quot\;\, sans-serif\; font-size: 19.2px\;">\n	<li id="VsMasterPage_MainContent_Instructors_ctl01_InstructorName" style="margin: 0px 0px 0.6em\; padding: 0px\; box-sizing: border-box\;">Nicole Heisman-Rifkin\, DO</li>\n</ul>\n</div>\n\n<h4 style="margin: 1em 0px 0.5em\; padding: 0px\; box-sizing: border-box\; font-family: &quot\;Avenir LT W01_45 Book1475508&quot\;\, sans-serif\; color: rgb(0\, 48\, 85)\; font-size: 1.5em\; line-height: 1.1em\;">Contact</h4>\n\n<p id="VsMasterPage_MainContent_ContactInfoDisplay" style="margin: 0px 0px 20px\; padding: 0px\; box-sizing: border-box\; color: rgb(64\, 64\, 65)\; font-family: canada-type-gibson\, Helvetica\, Arial\, &quot\;Nimbus Sans L&quot\;\, sans-serif\; font-size: 19.2px\;">Casey Fenoglio\, MPH\, CHES\, Community Wellness Program Manager at 610-327-7035 or&nbsp\;<a href="mailto:casey.fenoglio@towerhealth.org" style="margin: 0px\; padding: 0px\; box-sizing: border-box\; transition: all 0.3s ease 0s\; color: rgb(19\, 94\, 148)\;" tabindex="0">send an email</a></p>\n
LOCATION:Limerick Community Park 180 Swamp Pike Royersford\, PA 19468
UID:e.2183.856601
SEQUENCE:3
DTSTAMP:20260421T143719Z
URL:https://business.tricountyareachamber.com/events/details/medicine-on-the-move-856601
END:VEVENT

END:VCALENDAR
