BEGIN:VCALENDAR
VERSION:2.0
PRODID:-//ChamberMaster//Event Calendar 2.0//EN
METHOD:PUBLISH
X-PUBLISHED-TTL:P3D
REFRESH-INTERVAL:P3D
CALSCALE:GREGORIAN
BEGIN:VEVENT
DTSTART:20171124T220000Z
DTEND:20171125T010000Z
X-MICROSOFT-CDO-ALLDAYEVENT:FALSE
SUMMARY:Meet the Artist
DESCRIPTION:A rare opportunity to see Ronald Butt\, former Boyertown Area Elementary School Teacher\, work on a piece of his Pointillism Art. Stop by to catch up\, learn his technique\, or just tell him the influence he's had on you\, your children\, or your grand-children. Light refreshments will be served
X-ALT-DESC;FMTTYPE=text/html:A rare opportunity to see Ronald Butt\, former Boyertown Area Elementary School Teacher\, work on a piece of his Pointillism Art. Stop by to catch up\, learn his technique\, or just tell him the influence he&rsquo\;s had on you\, your children\, or your grand-children. Light refreshments will be served
LOCATION:Dancing Tree Creations Artisan's Gallery & Studio 220 S. Reading Ave. Boyertown\, PA 19512
UID:e.2183.849110
SEQUENCE:3
DTSTAMP:20260421T061031Z
URL:https://business.tricountyareachamber.com/events/details/meet-the-artist-849110
END:VEVENT

END:VCALENDAR
