BEGIN:VCALENDAR
VERSION:2.0
PRODID:-//ChamberMaster//Event Calendar 2.0//EN
METHOD:PUBLISH
X-PUBLISHED-TTL:P3D
REFRESH-INTERVAL:P3D
CALSCALE:GREGORIAN
BEGIN:VEVENT
DTSTART:20170519T220000Z
DTEND:20170519T233000Z
X-MICROSOFT-CDO-ALLDAYEVENT:FALSE
SUMMARY:Meet the Author Night - Susan Winters-Griste
DESCRIPTION:Book Signing   Light Refreshments   Give-Away Raffle   Networking\n\n \n\nJoin Susan as she shares inspiring reflections from her book\, TAKE-AWAYS.\n\n \n\nPicking up this little book and reading its pages\, you'll find yourself quickly transported to a quiet space by Susan's thoughtful reflections and questions. \n\n \n\nTuck a copy into your bag and open a random page for inspiration. The 97 entries also make perfect journal prompts! End your week well and join us!
X-ALT-DESC;FMTTYPE=text/html:<p class="p1" color:="" letter-spacing:="" myriad="" pro="" style="margin: 0px\; padding: 0px 0px 8px\; line-height: normal\; font-stretch: normal\; font-size: 23px\; text-align: center\;"><span class="s1" myriad="" pro="" style="font-stretch: normal\; line-height: normal\; font-family: ">Book Signing&nbsp\;</span><span class="s2" color:="" myriad="" pro="" style="font-stretch: normal\; line-height: normal\; font-family: ">&bull\;</span><span class="s1" myriad="" pro="" style="font-stretch: normal\; line-height: normal\; font-family: ">&nbsp\;Light Refreshments<span class="s1" style="font-stretch: normal\; line-height: normal\;">&nbsp\;</span><span class="s2" style="font-stretch: normal\; line-height: normal\; color: rgb(250\, 90\, 184)\;">&bull\;</span><span class="s1" style="font-stretch: normal\; line-height: normal\;">&nbsp\;</span></span><span class="s1" myriad="" pro="" style="font-stretch: normal\; line-height: normal\; font-family: ">Give-Away Raffle&nbsp\;</span><span class="s2" color:="" myriad="" pro="" style="font-stretch: normal\; line-height: normal\; font-family: ">&bull\;</span><span class="s1" myriad="" pro="" style="font-stretch: normal\; line-height: normal\; font-family: ">&nbsp\;Networking</span></p>\n\n<p class="p1" color:="" letter-spacing:="" myriad="" pro="" style="margin: 0px\; padding: 0px 0px 8px\; line-height: normal\; font-stretch: normal\; font-size: 23px\; font-family: ">&nbsp\;</p>\n\n<p class="p1" color:="" letter-spacing:="" myriad="" pro="" style="margin: 0px\; padding: 0px 0px 8px\; line-height: normal\; font-stretch: normal\; font-size: 23px\; font-family: "><span class="s1" style="font-stretch: normal\; font-size: large\; line-height: normal\; font-family: arial\, helvetica\, sans-serif\; color: rgb(0\, 0\, 0)\;">Join Susan as she shares inspiring reflections from her book\, <em>TAKE-AWAYS</em>.</span></p>\n\n<p class="p1" color:="" letter-spacing:="" myriad="" pro="" style="margin: 0px\; padding: 0px 0px 8px\; line-height: normal\; font-stretch: normal\; font-size: 23px\; font-family: ">&nbsp\;</p>\n\n<p class="p1" color:="" letter-spacing:="" myriad="" pro="" style="margin: 0px\; padding: 0px 0px 8px\; line-height: normal\; font-stretch: normal\; font-size: 23px\; font-family: "><span class="s1" style="font-stretch: normal\; font-size: large\; line-height: normal\; font-family: arial\, helvetica\, sans-serif\; color: rgb(0\, 0\, 0)\;">Picking up this little book and reading its pages\, you&rsquo\;ll find yourself quickly transported to a quiet space by Susan&rsquo\;s thoughtful reflections and questions.&nbsp\;</span></p>\n\n<p class="p2" color:="" letter-spacing:="" min-height:="" myriad="" pro="" style="margin: 0px\; padding: 0px 0px 8px\; line-height: normal\; font-stretch: normal\; font-size: 14px\; font-family: ">&nbsp\;</p>\n\n<p class="p1" color:="" letter-spacing:="" myriad="" pro="" style="margin: 0px\; padding: 0px 0px 8px\; line-height: normal\; font-stretch: normal\; font-size: 23px\; font-family: "><span class="s1" style="font-stretch: normal\; font-size: large\; line-height: normal\; font-family: arial\, helvetica\, sans-serif\; color: rgb(0\, 0\, 0)\;">Tuck a copy into your bag and open a random page for inspiration. The 97 entries also make perfect journal prompts! End your week well and join us!</span></p>\n
LOCATION:Productivity Pointe 152 E. High St.\, Suite 440 Pottstown\, PA 19464
UID:e.2183.847674
SEQUENCE:3
DTSTAMP:20260420T200200Z
URL:https://business.tricountyareachamber.com/events/details/meet-the-author-night-susan-winters-griste-847674
END:VEVENT

END:VCALENDAR
