BEGIN:VCALENDAR
VERSION:2.0
PRODID:-//ChamberMaster//Event Calendar 2.0//EN
METHOD:PUBLISH
X-PUBLISHED-TTL:P3D
REFRESH-INTERVAL:P3D
CALSCALE:GREGORIAN
BEGIN:VEVENT
DTSTART:20210616T153000Z
DTEND:20210616T170000Z
X-MICROSOFT-CDO-ALLDAYEVENT:FALSE
SUMMARY:Member Networking Luncheon
DESCRIPTION:Online Registration closes at 11:30 AM on Tuesday\, June 15. To register after this time\, please call the Chamber at 610.326.2900.\n\n\n\nWe're kickstarting our return to in-person events with a special networking luncheon exclusively for TCACC Members! Come connect with other Members face-to-face and build relationships.\n\n\n\nTo give as many Members as possible the opportunity to attend\, only one person per company is permitted to attend.
X-ALT-DESC;FMTTYPE=text/html:<span style="font-size:14px\;"><span style="color:#FF0000\;"><strong>Online Registration closes at 11:30 AM on Tuesday\, June 15. To register after this time\, please call the Chamber at 610.326.2900.</strong></span><br />\n<br />\nWe&#39\;re kickstarting our return to in-person events with a special networking luncheon exclusively for TCACC Members! Come connect with other Members face-to-face and build relationships.</span><br />\n<br />\n<span style="font-size:16px\;"><span style="color:#FF0000\;"><span style="outline: 0px\; box-sizing: border-box\; font-weight: bolder\; font-family: sans-serif\, Arial\, Verdana\, &quot\;Trebuchet MS&quot\;\; background-color: rgb(255\, 255\, 255)\;">To give as many Members as possible the opportunity to attend\, only one person per company is permitted to attend.</span></span></span>
LOCATION:Brookside Country Club 850 N Adams St. Pottstown\, PA 19464 This event will be following all necessary COVID-19 regulations for gatherings.
UID:e.2183.856571
SEQUENCE:3
DTSTAMP:20260421T194447Z
URL:https://business.tricountyareachamber.com/events/details/member-networking-luncheon-856571
END:VEVENT

END:VCALENDAR
