BEGIN:VCALENDAR
VERSION:2.0
PRODID:-//ChamberMaster//Event Calendar 2.0//EN
METHOD:PUBLISH
X-PUBLISHED-TTL:P3D
REFRESH-INTERVAL:P3D
CALSCALE:GREGORIAN
BEGIN:VEVENT
DTSTART:20211013T153000Z
DTEND:20211013T170000Z
X-MICROSOFT-CDO-ALLDAYEVENT:FALSE
SUMMARY:Member Networking Luncheon
DESCRIPTION:Join TCACC for a Member Networking Luncheon.  We're celebrating Local Chamber of Commerce Month with a networking breakfast.  There will not be a featured speaker\; instead\, the program will offer networking among your fellow members.\n\n \n\nInterested in building new business relationships over lunch?  Then this is your event!\n\nLunch by Moyer's Catering.\n\nThis event will be following all necessary COVID-19 regulations for gatherings.
X-ALT-DESC;FMTTYPE=text/html:<span style="text-align: justify\; font-family: arial\;"><span style="font-size: 14px\;"><strong>Join TCACC for a&nbsp\;Member Networking Luncheon.&nbsp\;&nbsp\;</strong>We&#39\;re celebrating Local Chamber of Commerce Month with a networking breakfast.&nbsp\;&nbsp\;There will not be a featured speaker\; instead\, the program will offer&nbsp\;networking among your fellow members.<br />\n&nbsp\;</span></span><br style="text-align: justify\;" />\n<span style="font-size: small\; text-align: justify\;"><span style="font-family: arial\;"><span style="font-size: 14px\;"><strong>Interested in building new business relationships over lunch?&nbsp\;</strong></span><em><span style="font-size: 14px\;">&nbsp\;Then this is your event!</span></em></span></span><br style="text-align: justify\;" />\nLunch by Moyer&#39\;s Catering.<br style="text-align: justify\;" />\n<em style="text-align: justify\;"><span style="font-size: 12px\;"><strong style="color: rgb(255\, 0\, 0)\;">This event will be following all necessary COVID-19 regulations for gatherings.</strong></span></em>
LOCATION:New Hanover United Methodist Church 2211 Swamp Pike Gilbertsville\, PA 19525 This event will be following all necessary COVID-19 regulations for gatherings.
UID:e.2183.856839
SEQUENCE:3
DTSTAMP:20260422T083741Z
URL:https://business.tricountyareachamber.com/events/details/member-networking-luncheon-856839
END:VEVENT

END:VCALENDAR
