BEGIN:VCALENDAR
VERSION:2.0
PRODID:-//ChamberMaster//Event Calendar 2.0//EN
METHOD:PUBLISH
X-PUBLISHED-TTL:P3D
REFRESH-INTERVAL:P3D
CALSCALE:GREGORIAN
BEGIN:VEVENT
DTSTART:20230818T150000Z
DTEND:20230818T190000Z
X-MICROSOFT-CDO-ALLDAYEVENT:FALSE
SUMMARY:Member Social
DESCRIPTION:Join us for a moment to socialize with the TriCounty Area Chamber staff\, Board of Directors\, and fellow Chamber Members.  This Member Social is an open networking event.  Stop in for a treat\, a chance to meet other Chamber Members and to say hello to us.\n\n\n\nWe're offering 3 time slots to attend during this event with a different treat at each time of day.  Upon registration\, please select the time you can join us.\n\n	        11 a.m.- 12 p.m. for our Iced Coffee Bar\n	        2:00 p.m. - 3:00 p.m. for a brownie\n\nPlease register for our head count and choose your time you plan to attend!
X-ALT-DESC;FMTTYPE=text/html:<span style="font-size:18px\;">Join us for a moment to socialize with the TriCounty Area Chamber staff\, Board of Directors\, and fellow Chamber Members.&nbsp\; This Member Social is an open networking event.&nbsp\; Stop in for a treat\, a chance to meet other Chamber Members and to say hello to us.<br />\n<br />\nWe&#39\;re offering 3 time slots to attend during this event with a different treat at each time of day.&nbsp\; Upon registration\, please select the time you can join us.</span>\n<ul>\n	<li><span style="font-size:18px\;">&nbsp\;&nbsp\;&nbsp\;&nbsp\;&nbsp\; &nbsp\; 11 a.m.- 12 p.m. for our Iced Coffee Bar</span></li>\n	<li><span style="font-size:18px\;">&nbsp\;&nbsp\;&nbsp\;&nbsp\;&nbsp\; &nbsp\; 2:00 p.m. - 3:00 p.m. for a brownie</span></li>\n</ul>\n<span style="font-size:18px\;"><strong>Please register for our head count and choose your time you plan to attend!</strong></span>
LOCATION:TriCounty Area Chamber
UID:e.2183.858888
SEQUENCE:3
DTSTAMP:20260419T234946Z
URL:https://business.tricountyareachamber.com/events/details/member-social-858888
END:VEVENT

END:VCALENDAR
