BEGIN:VCALENDAR
VERSION:2.0
PRODID:-//ChamberMaster//Event Calendar 2.0//EN
METHOD:PUBLISH
X-PUBLISHED-TTL:P3D
REFRESH-INTERVAL:P3D
CALSCALE:GREGORIAN
BEGIN:VEVENT
DTSTART:20171003T153000Z
DTEND:20171003T170000Z
X-MICROSOFT-CDO-ALLDAYEVENT:FALSE
SUMMARY:Membership Anniversary Luncheon
DESCRIPTION:BY INVITATION ONLY!\n\nTake part in an Anniversary Luncheon being held in your honor\, in recognition of your organization's membership renewal.  Hosted by the TriCounty Area Chamber of Commerce Board of Directors.\n\nLuncheon Agenda: \n- Networking with fellow Chamber Members\n\n- Discuss results of Renewal Survey\n\n- Open forum to express feedback & concerns regarding the TriCounty Chamber\n\n\n\nRegistration required!
X-ALT-DESC;FMTTYPE=text/html:<div><span style="font-size:18px\;"><span style="font-family: arial\;"><span style="color: #ff0000\;"><strong>BY INVITATION ONLY!</strong></span></span></span></div>\n\n<p><span style="font-family: arial\;">Take part in an Anniversary Luncheon being held in your honor\, in recognition of your organization&#39\;s membership renewal.&nbsp\; Hosted by the TriCounty Area Chamber of Commerce Board of Directors.</span></p>\n\n<p><span style="font-family: arial\;">Luncheon Agenda:&nbsp\;</span></p>\n- Networking with fellow Chamber Members<br />\n<span style="font-family: arial\;">- Discuss results of Renewal Survey</span><br />\n<span style="font-family: arial\;"><span style="font-family: arial\;">- Open forum to express feedback &amp\; concerns regarding the TriCounty Chamber</span></span>\n\n<p><br />\n<span style="font-family: arial\; color: #ff0000\; font-size: 13px\;"><strong>Registration required!</strong></span></p>\n\n<p style="text-align: left\;"><br />\n<br />\n<br />\n<br />\n&nbsp\;</p>\n
LOCATION:TriCounty Area Chamber of Commerce 152 E. High St.\, Suite 360 Pottstown\, PA 19464 There is limited parking available in the lot at the Security Trust Building at 152 High St. You must have a permit to park in a reserved space or you may be ticketed. Parking is available on High St. for up to 3 hours at no charge\, or in the Freight Station Municipal lot\, across the railroad tracks (enter off Hanover St.) for a small fee.
UID:e.2183.848751
SEQUENCE:3
DTSTAMP:20260421T042636Z
URL:https://business.tricountyareachamber.com/events/details/membership-anniversary-luncheon-848751
END:VEVENT

END:VCALENDAR
