BEGIN:VCALENDAR
VERSION:2.0
PRODID:-//ChamberMaster//Event Calendar 2.0//EN
METHOD:PUBLISH
X-PUBLISHED-TTL:P3D
REFRESH-INTERVAL:P3D
CALSCALE:GREGORIAN
BEGIN:VEVENT
DTSTART:20160114T120000Z
DTEND:20160114T140000Z
X-MICROSOFT-CDO-ALLDAYEVENT:FALSE
SUMMARY:Membership Breakfast
DESCRIPTION:Attend our Membership Breakfast for the "Top 7 Secrets of Success in Sales/Business Development" featuring Lisa Peskin\, Founder & CEO\, Business Development University. Lisa has worked with thousands of sales professionals during her 25+ years in sales and sales management. She will share key fundamentals of business development that will help you and your company fill the sales pipeline with qualified prospects on a consistent basis\, increase your close ratios\, and ultimately significantly drive revenue.\n\nRegistration required!
X-ALT-DESC;FMTTYPE=text/html:<br />\n<span style="font-size:12px\;"><span style="font-family:arial\;">Attend our Membership Breakfast for the<strong> &quot\;Top 7 Secrets of Success in Sales/Business Development&quot\;</strong> featuring <strong>Lisa Peskin</strong>\, Founder &amp\; CEO\, Business Development University. Lisa has worked with thousands of sales professionals during her 25+ years in sales and sales management. She will share key fundamentals of business development that will help you and your company fill the sales pipeline with qualified prospects on a consistent basis\, increase your close ratios\, and ultimately significantly drive revenue.</span></span>\n\n<p><span style="font-size: 13px\;"><span style="font-family: arial\; font-size: 12px\;"><span style="color: #ff0000\;"><strong>Registration required!</strong></span></span></span><br />\n&nbsp\;</p>\n
LOCATION:The SunnyBrook Ballroom 50 Sunnybrook Rd. Pottstown\, PA 19464
UID:e.2183.845126
SEQUENCE:3
DTSTAMP:20260425T223129Z
URL:https://business.tricountyareachamber.com/events/details/membership-breakfast-01-14-2016-845126
END:VEVENT

END:VCALENDAR
