BEGIN:VCALENDAR
VERSION:2.0
PRODID:-//ChamberMaster//Event Calendar 2.0//EN
METHOD:PUBLISH
X-PUBLISHED-TTL:P3D
REFRESH-INTERVAL:P3D
CALSCALE:GREGORIAN
BEGIN:VEVENT
DTSTART:20160310T120000Z
DTEND:20160310T140000Z
X-MICROSOFT-CDO-ALLDAYEVENT:FALSE
SUMMARY:Membership Breakfast
DESCRIPTION:Join us for our March Membership Breakfast featuring a legislative presentation.\n\n\n\nCongressman Mike Fitzpatrick\, Congressman Patrick Meehan\, and Congressman Ryan Costello will be in attendance and provide brief presentations.This breakfast will also feature an update from Ben Taylor\, Executive Director\, US Chamber of Commerce's Great Lakes Regional Office.\n\nRegistration required!
X-ALT-DESC;FMTTYPE=text/html:<span style="font-size:12px\;"><span style="font-family: arial\;"><strong><span style="color: black\;">Join us for our March Membership Breakfast featuring a legislative presentation.<br />\n<br />\nCongressman Mike Fitzpatrick\, Congressman Patrick Meehan\,</span></strong><span style="color: black\;"> and <strong>Congressman Ryan Costello </strong>will be in attendance and provide brief presentations.This breakfast will also feature an update from&nbsp\;<strong>Ben Taylor</strong>\, Executive Director\,&nbsp\;<strong>US Chamber of Commerce&#39\;s Great Lakes Regional Office</strong>.</span></span></span>\n\n<p><span style="font-size: 13px\;"><span style="font-family: arial\; font-size: 12px\;"><span style="color: #ff0000\;"><strong>Registration required!</strong></span></span></span><br />\n&nbsp\;</p>\n
LOCATION:Copperfield Inn 594 W. Ridge Pike Limerick\, PA 19468
UID:e.2183.845291
SEQUENCE:3
DTSTAMP:20260425T174119Z
URL:https://business.tricountyareachamber.com/events/details/membership-breakfast-03-10-2016-845291
END:VEVENT

END:VCALENDAR
