BEGIN:VCALENDAR
VERSION:2.0
PRODID:-//ChamberMaster//Event Calendar 2.0//EN
METHOD:PUBLISH
X-PUBLISHED-TTL:P3D
REFRESH-INTERVAL:P3D
CALSCALE:GREGORIAN
BEGIN:VEVENT
DTSTART:20230510T120000Z
DTEND:20230510T133000Z
X-MICROSOFT-CDO-ALLDAYEVENT:FALSE
SUMMARY:Membership Breakfast
DESCRIPTION:Join us for the Member EGGSperience\n\nThe TriCounty Area Chamber of Commerce Board of Directors invites you\n\nto be their guest at the next Membership Breakfast!\n\n \n\nThe Breakfast will feature and highlight:\n\n\n	Mini-Orientation   Review of Current Programs\n	Summary of Results of 3 Months of Board of Directors Work Sessions (Jan.\, Feb.\, March)\n	Presentation of Plan for the Future for TriCounty Chamber\n	Announcement of NEW Programs\, Events\, and Offerings\n\n\n\n\nBring a Non-Member Friend for FREE and be entered to win a $100 Cash Prize!\n\n We are offering Members to invite non-member friends to join them at this breakfast. \n\nMembers: for each non-member friend you bring to this event\, you will be entered to win a $100 Cash Prize.  When registering a friend\, add them to your registration list\, and include their company name and email.  You may also call the Chamber office at 610.326.2900 for help with a friend's registration. \n\n\n\nCommunity Service for our Members\n\nTCACC will be collecting items for the 5th Annual Preston's Pantry Food Drive at this event. \n\n\n\nEight-year-old Preston Dray ran a food drive for the Boyertown Area Multi-Service that inspired the community in 2018. A year later\, Preston and his pregnant mother perished in a flash flood.  To honor his memory\, this food drive became an annual event.  \n\n\n\n TCACC would like to support the Annual Preston's Pantry Food Drive by asking our Members to bring a donation to the Breakfast.\n\nItems Needed:\n\nToothpaste\, Toothbrushes\n\nShampoo\, Conditioner\n\nGluten Free Snacks\, Sugar Free Snacks\, Children's Snacks. \n\nLaundry Detergent\n\nPeanut Butter\n\nCanned Fruit\n\nHamburger Helper\n\nSoup\n\nCanned Beans\, Canned Vegetables\n\n\n\n \n______________________________________________________________________\n\nWe're looking for sponsors for this event.\n\nBreakfast Sponsor: $500 (3 opportunities per Breakfast available)\n\nSponsorship includes: \n\n\n	2 tickets to the event\n	Podium time (3-minute message to attendees)\n	Your company logo on the marketing of the event\n	Display table\n	Door prize donation (optional)\n	Exclusive opportunity to give away items to attendees\n	Listing in press release(s)\n	Option to put message in post-event email to attendees\n\n Coffee Station Sponsor- (exclusive sponsorship) $150.\n\nSponsorship includes:\n\n\n	1 complimentary ticket\n	Name & Logo with your materials at coffee station at the breakfast\n	Acknowledged as Coffee Sponsor at event
X-ALT-DESC;FMTTYPE=text/html:<h1 style="text-align: center\;"><font color="#8b4513" face="arial\, sans-serif"><span style="font-size: 24px\;"><b>Join us for the&nbsp\;Member EGGSperience</b></span></font></h1>\n\n<h3 style="text-align: center\;"><strong><span style="color:#8B4513\;"><span style="font-size:16px\;">The TriCounty Area Chamber of Commerce Board of Directors invites you<br />\nto be their guest at the next Membership Breakfast!</span></span></strong><br />\n&nbsp\;</h3>\n\n<h3><span style="font-size:16px\;">The Breakfast will feature and highlight:</span></h3>\n\n<ul>\n	<li style="margin-left:0in\;"><span style="font-size:16px\;">Mini-Orientation &ndash\; Review of Current Programs</span></li>\n	<li style="margin-left:0in\;"><span style="font-size:16px\;">Summary of Results of 3 Months of Board of Directors Work Sessions (Jan.\, Feb.\, March)</span></li>\n	<li style="margin-left:0in\;"><span style="font-size:16px\;">Presentation of Plan for the Future for TriCounty Chamber</span></li>\n	<li style="margin-left:0in\;"><span style="font-size:16px\;">Announcement of NEW Programs\, Events\, and Offerings</span></li>\n</ul>\n\n<div style="margin-left:0in\;"><br />\n<strong>Bring a Non-Member Friend for FREE and be entered to win a $100 Cash Prize!<br />\n&nbsp\;</strong>We are offering&nbsp\;Members to invite&nbsp\;non-member friends to join them at this breakfast.&nbsp\;<br />\nMembers: for each non-member friend you bring&nbsp\;to this event\, you will be entered to win a $100 Cash Prize.&nbsp\; When registering a friend\, add them to your registration list\, and&nbsp\;include their company name and email.&nbsp\; You may also call the Chamber office at 610.326.2900 for help with a friend&#39\;s registration.&nbsp\;<br />\n<br />\n<strong>Community Service for our Members</strong><br />\nTCACC will be collecting items for the <strong>5th Annual Preston&#39\;s Pantry Food Drive</strong> at this event.&nbsp\;<br />\n<br />\nEight-year-old Preston Dray ran a food drive for the Boyertown Area Multi-Service&nbsp\;that inspired the community in 2018. A year later\, Preston&nbsp\;and his pregnant mother perished in a flash flood.&nbsp\; To honor his memory\, this food drive became an annual event.&nbsp\;&nbsp\;<br />\n<br />\n&nbsp\;TCACC would like to support the Annual Preston&#39\;s&nbsp\;Pantry Food Drive by asking our Members to bring a donation to the Breakfast.</div>\n\n<div style="margin-left: 40px\;"><strong><u>Items Needed:</u></strong><br />\nToothpaste\, Toothbrushes<br />\nShampoo\, Conditioner<br />\nGluten Free Snacks\, Sugar Free Snacks\, Children&#39\;s Snacks.&nbsp\;<br />\nLaundry Detergent<br />\nPeanut Butter<br />\nCanned Fruit<br />\nHamburger Helper<br />\nSoup<br />\nCanned Beans\, Canned Vegetables</div>\n\n<div style="margin-left:0in\;"><br />\n&nbsp\;</div>\n______________________________________________________________________<br />\n<span style="font-size:12px\;">We&#39\;re looking for sponsors for this event.<br />\n<strong>Breakfast Sponsor: $500 (3 opportunities per Breakfast available)</strong><br />\nSponsorship includes:&nbsp\;</span>\n\n<ul>\n	<li><span style="font-size:12px\;">2 tickets to the event</span></li>\n	<li><span style="font-size:12px\;">Podium time (3-minute message to attendees)</span></li>\n	<li><span style="font-size:12px\;">Your company logo on the marketing of the event</span></li>\n	<li><span style="font-size:12px\;">Display table</span></li>\n	<li><span style="font-size:12px\;">Door prize donation (optional)</span></li>\n	<li><span style="font-size:12px\;">Exclusive opportunity to give away items to attendees</span></li>\n	<li><span style="font-size:12px\;">Listing in press release(s)</span></li>\n	<li><span style="font-size:12px\;">Option to put message in post-event email to attendees</span></li>\n</ul>\n<span style="font-size:12px\;"> <strong>Coffee Station Sponsor- (exclusive sponsorship) $150.</strong><br />\nSponsorship includes:</span>\n\n<ul>\n	<li><span style="font-size:12px\;">1 complimentary ticket</span></li>\n	<li><span style="font-size:12px\;">Name &amp\; Logo with your materials at coffee station at the breakfast</span></li>\n	<li><span style="font-size:12px\;">Acknowledged as Coffee Sponsor at event</span></li>\n</ul>\n
LOCATION:Spring Hollow Golf Club
UID:e.2183.858501
SEQUENCE:3
DTSTAMP:20260420T041456Z
URL:https://business.tricountyareachamber.com/events/details/membership-breakfast-05-10-2023-858501
END:VEVENT

END:VCALENDAR
