BEGIN:VCALENDAR
VERSION:2.0
PRODID:-//ChamberMaster//Event Calendar 2.0//EN
METHOD:PUBLISH
X-PUBLISHED-TTL:P3D
REFRESH-INTERVAL:P3D
CALSCALE:GREGORIAN
BEGIN:VEVENT
DTSTART:20160609T110000Z
DTEND:20160609T130000Z
X-MICROSOFT-CDO-ALLDAYEVENT:FALSE
SUMMARY:Membership Breakfast
DESCRIPTION:Please call 610.326.2900 to register.\n\n\n\nJoin us at the June membership breakfast to congratulate the Leadership Tri-County Class of 2016 on their graduation and hear the results of their projects which they have worked on over the last 10 months on behalf of area nonprofits.\n\n\n\nRegistration required!\n\n\n\n\n\nSponsorship opportunities available - contact Kitty Papp.
X-ALT-DESC;FMTTYPE=text/html:<span style="color:#FF0000\;"><strong>Please call 610.326.2900 to register.</strong></span><br />\n<br />\n<span style="font-size:12px\;"><span style="font-family:arial\;"><span style="line-height: 1.6\;">Join us at the&nbsp\;June membership breakfast to congratulate the Leadership Tri-County Class of 2016 on their graduation and hear the results of their projects which they have worked on over the last 10 months on behalf of area nonprofits.</span></span></span>\n\n<p><br />\n<span style="font-size: 13px\;"><span style="font-family: arial\; font-size: 12px\;"><span style="color: #ff0000\;"><strong>Registration required!</strong></span><br />\n<br />\n<br />\nSponsorship opportunities available - contact <a href="mailto:kitty@tricountyareachamber.com">Kitty Papp</a>.</span></span><br />\n&nbsp\;</p>\n
LOCATION:Brookside Country Club 850 N. Adams St. Pottstown\, PA 19464
UID:e.2183.845595
SEQUENCE:3
DTSTAMP:20260425T124516Z
URL:https://business.tricountyareachamber.com/events/details/membership-breakfast-06-09-2016-845595
END:VEVENT

END:VCALENDAR
