BEGIN:VCALENDAR
VERSION:2.0
PRODID:-//ChamberMaster//Event Calendar 2.0//EN
METHOD:PUBLISH
X-PUBLISHED-TTL:P3D
REFRESH-INTERVAL:P3D
CALSCALE:GREGORIAN
BEGIN:VEVENT
DTSTART:20150910T110000Z
DTEND:20150910T130000Z
X-MICROSOFT-CDO-ALLDAYEVENT:FALSE
SUMMARY:Membership Breakfast
DESCRIPTION:Yesterday\, Today\, and Tomorrow - The 2014-15 Annual Report will be presented at this annual meeting of the Chamber. Celebrate what was accomplished last year\, meet the current Board Members\, and learn about what we have in store for the upcoming program year!\n\n\n\nBring a friend!\n\n\n\n\n	Speak to a Captive Audience: By bringing a guest\, you will be able to introduce yourself and your guest to all attendees.\n	2 for 1 Breakfast: Invite a guest and their ticket will be complimentary. A great way to experience the Chamber before they join!\n	Rewards x 3: When your guest joins the Chamber:\n	\n		Your next breakfast is complimentary.\n		You receive a $50 gift card.\n		You will be acknowledged publicly and thanked in the next issue of the Route 422 Business Advisor\, which is circulated to more than 10\,000 businesses throughout our region.\n	\n	\n\n\n\n\nRegistration required!
X-ALT-DESC;FMTTYPE=text/html:<br />\n<strong style="line-height: 20.7999992370605px\;">Yesterday\, Today\, and </strong><strong style="line-height: 20.7999992370605px\;">Tomorrow - </strong>The&nbsp\;2014-15 Annual Report will be presented at this annual meeting of the Chamber. Celebrate what was accomplished last year\, meet the current Board Members\, and learn about what we have in store for the upcoming program year!<br />\n<br />\n<span style="font-size:12px\;"><span style="font-family:arial\;"><strong>Bring a friend!</strong></span></span>\n\n<div style="MARGIN-TOP: 0px\; MARGIN-BOTTOM: 0px">\n<div style="MARGIN-TOP: 0px\; MARGIN-BOTTOM: 0px">\n<ul>\n	<li align="left"><span style="font-size:12px\;"><span style="font-family:arial\;"><strong>Speak&nbsp\;to a&nbsp\;Captive Audience:&nbsp\;</strong></span></span>By&nbsp\;bringing a&nbsp\;guest\,&nbsp\;you will&nbsp\;be able&nbsp\;to introduce&nbsp\;yourself and&nbsp\;your guest&nbsp\;to all&nbsp\;attendees.</li>\n	<li style="text-align: left\;"><span style="font-size:12px\;"><span style="font-family:arial\;"><strong>2 for 1 Breakfast:&nbsp\;</strong></span></span><span style="font-size:12px\;"><span style="font-family:arial\;">Invite a guest and their ticket will be complimentary.&nbsp\;A great way to experience the Chamber before they join!</span></span></li>\n	<li style="text-align: left\;"><span style="font-size: 12px\; font-family: arial\;"><strong>Rewards x 3</strong>:&nbsp\;When your guest joins the Chamber:</span>\n	<ul>\n		<li style="text-align: left\;"><span style="font-size:12px\;"><span style="font-family:arial\;"><span style="line-height: 1.6\;">Your next breakfast is complimentary.</span></span></span></li>\n		<li style="text-align: left\;"><span style="font-size:12px\;"><span style="font-family:arial\;"><span style="line-height: 1.6\;">You receive a $50 gift card.</span></span></span></li>\n		<li style="text-align: left\;"><span style="font-family: arial\; font-size: 12px\; line-height: 1.6\;">You&nbsp\;will&nbsp\;be acknowledged publicly and thanked in the next issue&nbsp\;of the&nbsp\;Route 422&nbsp\;Business Advisor\, which&nbsp\;is circulated&nbsp\;to more than 10\,000 businesses&nbsp\;throughout our&nbsp\;region.</span></li>\n	</ul>\n	</li>\n</ul>\n</div>\n</div>\n\n<p><span style="font-size: 13px\;"><span style="font-family: arial\; font-size: 12px\;"><span style="color: #ff0000\;"><strong>Registration required!</strong></span></span></span><br />\n&nbsp\;</p>\n
LOCATION:Copperfield Inn at Lakeside 594 W. Ridge Pike Limerick\, PA 19468
UID:e.2183.845045
SEQUENCE:3
DTSTAMP:20260426T042011Z
URL:https://business.tricountyareachamber.com/events/details/membership-breakfast-09-10-2015-845045
END:VEVENT

END:VCALENDAR
