BEGIN:VCALENDAR
VERSION:2.0
PRODID:-//ChamberMaster//Event Calendar 2.0//EN
METHOD:PUBLISH
X-PUBLISHED-TTL:P3D
REFRESH-INTERVAL:P3D
CALSCALE:GREGORIAN
BEGIN:VEVENT
DTSTART:20151112T120000Z
DTEND:20151112T140000Z
X-MICROSOFT-CDO-ALLDAYEVENT:FALSE
SUMMARY:Membership Breakfast
DESCRIPTION:"The State of Higher Education" will feature a panel of  Dr. Brock Blomberg\, Ursinus College\; Dr. Kenneth Hawkinson\, Kutztown University\; Dr. James Linksz\, Montgomery County Community College\; and Dr. Lex McMillan\, Albright College.  Their presentations will focus on initiatives related to preparing tomorrow's workforce and citizens for future endeavors and how they lead their institutions through changing expectations from students\, parents and employers. See how local schools are planting the seeds for future success!\n\nRegistration required!
X-ALT-DESC;FMTTYPE=text/html:<br />\n<span style="font-size:12px\;"><span style="font-family:arial\;"><strong>&ldquo\;The State of Higher Education&rdquo\;</strong> will feature a panel of &nbsp\;<strong>Dr. Brock Blomberg</strong>\, Ursinus College\; <strong>Dr.</strong> <strong>Kenneth Hawkinson\,</strong> Kutztown University\; <strong>Dr. James Linksz\, </strong>Montgomery County Community College\; and <strong>Dr. Lex McMillan</strong>\, Albright College.&nbsp\; Their presentations will focus on initiatives related to preparing tomorrow&rsquo\;s workforce and citizens for future endeavors and how they lead their institutions through changing expectations from students\, parents and employers.&nbsp\;<span style="color:black\;">See how local schools are <strong><em>planting</em></strong> the seeds for future success!</span></span></span>\n\n<p><span style="font-size: 13px\;"><span style="font-family: arial\; font-size: 12px\;"><span style="color: #ff0000\;"><strong>Registration required!</strong></span></span></span><br />\n&nbsp\;</p>\n
LOCATION:Brookside Country Club 850 N. Adams St. Pottstown\, PA 19464
UID:e.2183.845062
SEQUENCE:3
DTSTAMP:20260425T235420Z
URL:https://business.tricountyareachamber.com/events/details/membership-breakfast-11-12-2015-845062
END:VEVENT

END:VCALENDAR
