BEGIN:VCALENDAR
VERSION:2.0
PRODID:-//ChamberMaster//Event Calendar 2.0//EN
METHOD:PUBLISH
X-PUBLISHED-TTL:P3D
REFRESH-INTERVAL:P3D
CALSCALE:GREGORIAN
BEGIN:VEVENT
DTSTART:20170302T120000Z
DTEND:20170302T140000Z
X-MICROSOFT-CDO-ALLDAYEVENT:FALSE
SUMMARY:Membership Breakfast
DESCRIPTION:Please call 610.326.2900 to register - online registration is closed.\n\n\n\n93\n\nCelebrating 9 Decades with 9 Business Leaders providing 9 tips!\n\n\n\nJoin us for breakfast to kick off the celebration of the Chamber's 90 years of serving the community. Walk away with tips and ideas to help strengthen your business after hearing from 9 of our areas' top Chamber member leaders as they provide their best ideas for business success to include best practices\, programs and philosophies that have helped make the businesses they lead truly great.\n\n\n\nPresenters confirmed to date:\n\n\n	April Barkasi\, President\, CEDARVILLE Engineering Group\, LLC\n	Megan Bauer\, VP\, Coventry Corners\n	Terese Brittingham\, Owner\, Keller Williams Realty Group\n	Heather Chandler\, President\,Sealstrip Corporation\n	Dr. David DiMattio\, VP West Campus\, Montgomery County Community College\n	David Kraybill\, President\, Pottstown Area Health and Wellness Foundation\n	Rick Libra\, Site VP\, Exelon\n	Scott McDevitt\, Founder & CEO\, Translogistics\, Inc.\n	Rich Newell\, CEO\, Pottstown Memorial Medical Center\n\nOnline registration closes on 3/1 at 7:30 AM - please call the office if you would like to register after this time. \n\nRegistration required!
X-ALT-DESC;FMTTYPE=text/html:<div style="text-align: center\;"><b><span style="font-size:20px\;">Please call <a href="tel:610.326.2900">610.326.2900</a> to register - online registration is closed.</span><br />\n<br />\n9<sup>3</sup></b></div>\n\n<div style="text-align: center\;">Celebrating <em><strong>9</strong></em> Decades with <em><strong>9</strong></em> Business Leaders providing <em><strong>9</strong></em> tips!</div>\n\n<div><br />\nJoin us for breakfast to kick off the celebration of the Chamber&#39\;s 90 years of serving the community. Walk away with tips and ideas to help strengthen your business after hearing from 9 of our areas&#39\; top Chamber member leaders as they provide their best ideas for business success to include best practices\, programs and philosophies that have helped make the businesses they lead truly great.</div>\n\n<div style="text-align: center\;"><br />\nPresenters confirmed to date:</div>\n\n<ul>\n	<li>April Barkasi\, President\, CEDARVILLE Engineering Group\, LLC</li>\n	<li>Megan Bauer\, VP\, Coventry Corners</li>\n	<li>Terese Brittingham\, Owner\, Keller Williams Realty Group</li>\n	<li>Heather Chandler\, President\,Sealstrip Corporation</li>\n	<li>Dr. David DiMattio\, VP West Campus\, Montgomery County Community College</li>\n	<li>David Kraybill\, President\, Pottstown&nbsp\;Area Health and Wellness Foundation</li>\n	<li>Rick Libra\, Site VP\, Exelon</li>\n	<li>Scott McDevitt\, Founder &amp\; CEO\, Translogistics\, Inc.</li>\n	<li>Rich Newell\, CEO\, Pottstown Memorial Medical Center</li>\n</ul>\n<strong style="color: rgb(51\, 51\, 51)\; font-family: arial\; font-size: 12px\; line-height: 12.8px\; background-color: rgb(255\, 255\, 255)\;"><em>Online registration closes on 3/1 at 7:30 AM - please call the office if you would like to register after this time.&nbsp\;</em></strong>\n\n<p><span style="font-size: 13px\;"><span style="font-family: arial\; font-size: 12px\;"><span style="color: #ff0000\;"><strong>Registration required!</strong></span></span></span><br />\n&nbsp\;</p>\n
LOCATION:Copperfield Inn at Lakeside 594 W. Ridge Pike Limerick\, PA 19468
UID:e.2183.847353
SEQUENCE:3
DTSTAMP:20260420T164051Z
URL:https://business.tricountyareachamber.com/events/details/membership-breakfast-847353
END:VEVENT

END:VCALENDAR
