BEGIN:VCALENDAR
VERSION:2.0
PRODID:-//ChamberMaster//Event Calendar 2.0//EN
METHOD:PUBLISH
X-PUBLISHED-TTL:P3D
REFRESH-INTERVAL:P3D
CALSCALE:GREGORIAN
BEGIN:VEVENT
DTSTART:20170608T110000Z
DTEND:20170608T130000Z
X-MICROSOFT-CDO-ALLDAYEVENT:FALSE
SUMMARY:Membership Breakfast
DESCRIPTION:Online registration is closed - please call 610.326.2900 to register. \n\n\n\nJoin us at the June membership breakfast to congratulate the Leadership Tri-County Class of 2017 on their graduation and hear the results of their projects which they have worked on over the last 10 months on behalf of area nonprofits.\nCongratulations to the Leadership Tri-County Class of 2017!\n\n\n	Howard Brown\, Pottstown Area Health & Wellness Foundation\n	Craig Colistra\, Pottstown Area Health & Wellness Foundation\n	Wendy Gaynor\, Chester County Food Bank\n	Jennifer Gilbert\, The Victory Bank\n	Andie Graham\, Borough of Pottstown\n	Laura Justiniano\, MEMOR Coaching & Consulting\n	Nicole Martinez\, Schultz Technology\n	Liz Peters\, Tri County Area Federal Credit Union\n	Josh Petrauskas\, Wrigley's Business Products & Services\n	Natalee Sassaman\, Borough of Pottstown\n	Melissa Shainline\, TriCounty Area Chamber of Commerce\n	Dinell Smith\, Sealstrip Corporation\n	Jill Vincent\, Wellness Council of Boyertown\n	Joyce Weand\, Pottstown Area Rapid Transit\, Inc.\n	Christina Weller\, Pottstown Memorial Medical Center\n\n\n\n\nRegistration required!
X-ALT-DESC;FMTTYPE=text/html:<span style="font-size:12px\;"><span style="font-family:arial\;"><span style="line-height: 1.6\;"><span style="color:#FF0000\;"><span style="font-size:20px\;"><strong>Online registration is closed - please call 610.326.2900 to register.&nbsp\;</strong></span></span><br />\n<br />\nJoin us at the&nbsp\;June membership breakfast to congratulate the Leadership Tri-County Class of 2017 on their graduation and hear the results of their projects which they have worked on over the last 10 months on behalf of area nonprofits.</span></span></span>\n<p style="text-align: center\;"><em><strong>Congratulations to the Leadership Tri-County Class of 2017!</strong></em></p>\n\n<ul>\n	<li>Howard Brown\, Pottstown Area Health &amp\; Wellness Foundation</li>\n	<li>Craig Colistra\, Pottstown Area Health &amp\; Wellness Foundation</li>\n	<li>Wendy Gaynor\, Chester County Food Bank</li>\n	<li>Jennifer Gilbert\, The Victory Bank</li>\n	<li>Andie Graham\, Borough of Pottstown</li>\n	<li>Laura Justiniano\, MEMOR Coaching &amp\; Consulting</li>\n	<li>Nicole Martinez\, Schultz Technology</li>\n	<li>Liz Peters\, Tri County Area Federal Credit Union</li>\n	<li>Josh Petrauskas\, Wrigley&#39\;s Business Products &amp\; Services</li>\n	<li>Natalee Sassaman\, Borough of Pottstown</li>\n	<li>Melissa Shainline\, TriCounty Area Chamber of Commerce</li>\n	<li>Dinell Smith\, Sealstrip&nbsp\;Corporation</li>\n	<li>Jill Vincent\, Wellness Council of Boyertown</li>\n	<li>Joyce Weand\, Pottstown Area Rapid Transit\, Inc.</li>\n	<li>Christina Weller\, Pottstown Memorial Medical Center</li>\n</ul>\n\n<p><br />\n<span style="font-size: 13px\;"><span style="font-family: arial\; font-size: 12px\;"><span style="color: #ff0000\;"><strong>Registration required!</strong></span></span></span><br />\n&nbsp\;</p>\n
LOCATION:Brookside Country Club 850 N. Adams St. Pottstown\, PA 19464
UID:e.2183.847567
SEQUENCE:3
DTSTAMP:20260420T213145Z
URL:https://business.tricountyareachamber.com/events/details/membership-breakfast-847567
END:VEVENT

END:VCALENDAR
