BEGIN:VCALENDAR
VERSION:2.0
PRODID:-//ChamberMaster//Event Calendar 2.0//EN
METHOD:PUBLISH
X-PUBLISHED-TTL:P3D
REFRESH-INTERVAL:P3D
CALSCALE:GREGORIAN
BEGIN:VEVENT
DTSTART:20170907T110000Z
DTEND:20170907T130000Z
X-MICROSOFT-CDO-ALLDAYEVENT:FALSE
SUMMARY:Membership Breakfast
DESCRIPTION:Presented by Michael Leister\, Director of Partnership Development\, PA Department of Labor & Industry and Gwen Ross\, MPA\, Director of Workforce Development Initiatives\, PA Department of Community & Economic Development\, the topic of this breakfast will be "Workforce Development". The presentation will include an overview of PA Workforce Development Initiatives and the Introduction of Next Generation Sector Partnerships. \n\n\n\nThis breakfast will serve as the Annual Meeting of the Membership - featuring the presentation of the 2016-2017 Annual Report and we will share some initiatives for the 2017-2018 program year.\n\n\nRegistration required!
X-ALT-DESC;FMTTYPE=text/html:<span style="font-family:times new roman\,serif\;"><span style="font-size:12.0pt\;">Presented by <b>Michael Leister\, </b>Director of Partnership Development\,<b><em> </em>PA Department of Labor &amp\; Industry&nbsp\;</b>and <strong>Gwen Ross\, MPA\, </strong>Director of Workforce Development Initiatives\,<strong> PA Department of Community &amp\; Economic Development\,&nbsp\;</strong>the topic of this breakfast will be <strong>&ldquo\;Workforce Development&rdquo\;.</strong>&nbsp\;The presentation will include an overview of PA Workforce Development Initiatives and the Introduction of Next Generation Sector Partnerships.&nbsp\;<br />\n<br />\nThis breakfast will serve as the Annual Meeting of the Membership - featuring the presentation of the 2016-2017 Annual Report and we will share some initiatives for the 2017-2018 program year.</span></span>\n<p><br />\n<span style="font-size: 13px\;"><span style="font-family: arial\; font-size: 12px\;"><span style="color: #ff0000\;"><strong>Registration required!</strong></span></span></span><br />\n&nbsp\;</p>\n
LOCATION:Copperfield Inn at Lakeside 594 W. Ridge Pike Limerick\, PA 19468
UID:e.2183.848714
SEQUENCE:3
DTSTAMP:20260421T024922Z
URL:https://business.tricountyareachamber.com/events/details/membership-breakfast-848714
END:VEVENT

END:VCALENDAR
