BEGIN:VCALENDAR
VERSION:2.0
PRODID:-//ChamberMaster//Event Calendar 2.0//EN
METHOD:PUBLISH
X-PUBLISHED-TTL:P3D
REFRESH-INTERVAL:P3D
CALSCALE:GREGORIAN
BEGIN:VEVENT
DTSTART:20171102T110000Z
DTEND:20171102T130000Z
X-MICROSOFT-CDO-ALLDAYEVENT:FALSE
SUMMARY:Membership Breakfast
DESCRIPTION:This breakfast will feature a Legislative panel.\n\nLegislators Confirmed to date:\n\n	Senator Bob Mensch\n	State Representative Tim Hennessey\n	State Representative Tom Quigley\n	State Representative Marcy Toepel \n\nRegistration required!
X-ALT-DESC;FMTTYPE=text/html:<font face="times new roman\, serif"><span style="font-size: 16px\;">This breakfast will feature a Legislative panel.<br />\nLegislators Confirmed to date:</span></font>\n<ul>\n	<li><font face="times new roman\, serif"><span style="font-size: 16px\;">Senator Bob Mensch</span></font></li>\n	<li><font face="times new roman\, serif"><span style="font-size: 16px\;">State Representative Tim Hennessey</span></font></li>\n	<li><font face="times new roman\, serif"><span style="font-size: 16px\;">State Representative Tom Quigley</span></font></li>\n	<li><font face="times new roman\, serif"><span style="font-size: 16px\;">State Representative Marcy Toepel </span></font></li>\n</ul>\n<span style="font-size: 13px\;"><span style="font-family: arial\; font-size: 12px\;"><span style="color: #ff0000\;"><strong>Registration required!</strong></span></span></span>
LOCATION:Brookside Country Club Prospect & Adams Sts. Pottstown\, PA 19464
UID:e.2183.848733
SEQUENCE:3
DTSTAMP:20260421T060640Z
URL:https://business.tricountyareachamber.com/events/details/membership-breakfast-848733
END:VEVENT

END:VCALENDAR
