BEGIN:VCALENDAR
VERSION:2.0
PRODID:-//ChamberMaster//Event Calendar 2.0//EN
METHOD:PUBLISH
X-PUBLISHED-TTL:P3D
REFRESH-INTERVAL:P3D
CALSCALE:GREGORIAN
BEGIN:VEVENT
DTSTART:20180301T120000Z
DTEND:20180301T140000Z
X-MICROSOFT-CDO-ALLDAYEVENT:FALSE
SUMMARY:Membership Breakfast- Co-Presented by TriCounty Community Network
DESCRIPTION:Laura Otten\, Director of The Nonprofit Center at La Salle University\, will present on Corporate Social Responsibility. Laura will discuss how nonprofits and businesses can partner to ensure that Corporate Social Responsibility is not simply a buzz phrase\, but represents a true win/win scenario that advances the businesses\, its employees and the community.\nShe will explore how volunteerism builds leadership\, contributes to employee productivity and satisfaction\, the key role board service plays in CSR\, and steps employers can take to better assure that board service will be a satisfactory experience for all sides of the equation.\n\n\nA link to a related article that Laura has published previously is located below.\n\nClick Here For Article\n\n \n\n\nRegistration required!
X-ALT-DESC;FMTTYPE=text/html:<span style="background: white\; line-height: 107%\; font-family: &quot\;Times New Roman&quot\;\, serif\; font-size: 12pt\;">Laura Otten\, Director of The Nonprofit Center at La Salle University\, will present on <b><i>Corporate Social Responsibility. </i></b><span style="font-family: &quot\;Times&quot\;\,serif\;"><font color="#000000" size="3">Laura will&nbsp\;discuss how nonprofits and businesses can partner to ensure that Corporate Social Responsibility is not simply a buzz phrase\, but represents a true win/win scenario that advances the businesses\, its employees and the community.</font></span></span>\n<p style="margin: 0in 0in 0pt\;"><span style="font-family: &quot\;Times&quot\;\,serif\;"><font color="#000000" size="3"><span style="font-family: &quot\;Times&quot\;\,serif\;"><font color="#000000" size="3">She will explore how volunteerism builds leadership\, contributes to employee productivity and satisfaction\, the key role board service plays in CSR\, and steps employers can take to better assure that board service will be a satisfactory experience for all sides of the equation.</font></span></font></span></p>\n<br />\n<span style="font-size: 14px\;"><span style="font-family: times new roman\;">A link to a related article that Laura has published previously is located below.<br />\n<a href="https://www.lasallenonprofitcenter.org/what-we-do/leadership-advancement/corporate-partnerships-support-community-service-goals/pbj-corporations-benefit-employees-serve-nonprofit-boards/">Click Here For Article</a></span></span>\n\n<p style="margin: 0in 0in 0pt\;">&nbsp\;</p>\n<br />\n<span style="font-size: 13px\;"><span style="font-family: arial\; font-size: 12px\;"><span style="color: rgb(255\, 0\, 0)\;"><strong>Registration required!</strong></span></span></span>
LOCATION:Copperfield Inn at Lakeside 594 W. Ridge Pike. Limerick\, PA 19468
UID:e.2183.849107
SEQUENCE:3
DTSTAMP:20260421T123813Z
URL:https://business.tricountyareachamber.com/events/details/membership-breakfast-co-presented-by-tricounty-community-network-849107
END:VEVENT

END:VCALENDAR
